BEGIN:VCALENDAR
VERSION:2.0
PRODID:-//ChamberMaster//Event Calendar 2.0//EN
METHOD:PUBLISH
X-PUBLISHED-TTL:P3D
REFRESH-INTERVAL:P3D
CALSCALE:GREGORIAN
BEGIN:VEVENT
DTSTART:20130518T133000Z
DTEND:20130518T200000Z
X-MICROSOFT-CDO-ALLDAYEVENT:FALSE
SUMMARY:GASC All Fore Fun Golf Outing
DESCRIPTION:The DECA (Marketing) students and HOSA (Health Occupations) students at the GASC Technology Center are hosting the All Fore Fun Golf Outing at Fenton Farms Golf Club with warm-up breakfast beginning at 9:30 a.m. All proceeds from this countywide fundraising event will directly benefit the scholarship funds of each student organization. Interested golfers and business sponsors who would like to display at the event should complete the online registration form. Cost is $75 for each golfer and includes continental breakfast\, lunch\, dinner\, goodie bag\, 18 holes of best-ball cart golf\, and many opportunities to win prizes.
X-ALT-DESC;FMTTYPE=text/html:<div>\n<table width="100%" border="0" cellspacing="0" cellpadding="0">\n<tbody>\n<tr>\n<td valign="top">\n<table width="100%" border="0" cellspacing="0" cellpadding="0">\n<tbody>\n<tr valign="top">\n<td bgcolor="#FFFFFF">\n<table width="100%" border="0" cellspacing="5" cellpadding="0">\n<tbody>\n<tr>\n<td><strong><strong></strong></strong>\n<p align="left">The DECA (Marketing) students and HOSA (Health Occupations) students at the GASC Technology Center are hosting the All Fore Fun Golf Outing at Fenton Farms Golf Club with warm-up breakfast beginning at 9:30 a.m. All proceeds from this countywide fundraising event will directly benefit the scholarship funds of each student organization. Interested golfers and business sponsors who would like to display at the event should complete the <a href="https://www.facebook.com/GascAllForeFunGolfOuting" target="_blank">online registration form</a>. Cost is $75 for each golfer and includes continental breakfast\, lunch\, dinner\, goodie bag\, 18 holes of best-ball cart golf\, and many opportunities to win prizes.</p>\n</td>\n</tr>\n</tbody>\n</table>\n</td>\n</tr>\n</tbody>\n</table>\n</td>\n</tr>\n</tbody>\n</table>\n</div>\n<div></div>
LOCATION:Fenton Farms Golf Club 2312 Torrey Road Fenton Michigan 48084
UID:e.2606.149
SEQUENCE:3
DTSTAMP:20260422T041549Z
URL:https://members.flintandgeneseechamber.org/events/details/gasc-all-fore-fun-golf-outing-05-18-2013-149
END:VEVENT

END:VCALENDAR
