BEGIN:VCALENDAR
VERSION:2.0
PRODID:-//ChamberMaster//Event Calendar 2.0//EN
METHOD:PUBLISH
X-PUBLISHED-TTL:P3D
REFRESH-INTERVAL:P3D
CALSCALE:GREGORIAN
BEGIN:VEVENT
DTSTART:20130916T133000Z
DTEND:20130916T200000Z
X-MICROSOFT-CDO-ALLDAYEVENT:FALSE
SUMMARY:GCBA - Social Media Seminar - Featuring Jamie Clark of Yellow Barn Media
DESCRIPTION:Genesee County Bride Alliance presents a Social Media Seminar - Featuring Jamie Clark of Yellow Barn Media\n\nLocation: Flint Institute of Arts\, Isabel Hall \n\n1120 E. Kearsley St\, Flint\, MI 48503\n\nTime: 9:30am - 4:00pm\n\nPrice:  $75 member/$95 non member - Continental breakfast and lunch included\n\nTopics during this all day seminar include:\n\n	Undestanding the socail media mindset\n	Which social media outlets are for you\n	Facebook\, Twitter\, Pinterest\, Instagram\, Linkedin and YouTube\n\nRegister Today!  For more info visit\n\nwww.gcbaweddings.com
X-ALT-DESC;FMTTYPE=text/html:Genesee County Bride Alliance presents a Social Media Seminar - Featuring Jamie Clark of Yellow Barn Media\n\nLocation: Flint Institute of Arts\, Isabel Hall \n\n1120 E. Kearsley St\, Flint\, MI 48503\n\nTime: 9:30am - 4:00pm\n\nPrice:  $75 member/$95 non member - Continental breakfast and lunch included\n\nTopics during this all day seminar include:\n<ul>\n	<li>Undestanding the socail media mindset</li>\n	<li>Which social media outlets are for you</li>\n	<li>Facebook\, Twitter\, Pinterest\, Instagram\, Linkedin and YouTube</li>\n</ul>\nRegister Today!  For more info visit\n\n<a href="http://www.gcbaweddings.com">www.gcbaweddings.com</a>\n\n&nbsp\;
LOCATION:
UID:e.2606.445
SEQUENCE:3
DTSTAMP:20260421T220542Z
URL:https://members.flintandgeneseechamber.org/events/details/gcba-social-media-seminar-featuring-jamie-clark-of-yellow-barn-media-09-16-2013-445
END:VEVENT

END:VCALENDAR
