BEGIN:VCALENDAR
VERSION:2.0
PRODID:-//ChamberMaster//Event Calendar 2.0//EN
METHOD:PUBLISH
X-PUBLISHED-TTL:P3D
REFRESH-INTERVAL:P3D
CALSCALE:GREGORIAN
BEGIN:VEVENT
DTSTART:20260219T223000Z
DTEND:20260220T000000Z
X-MICROSOFT-CDO-ALLDAYEVENT:FALSE
SUMMARY:GCFPL'S Community Conversations (free lunch)
DESCRIPTION:Join us for a guided conversation about your experiences with the library   what's working\, what's missing\, and what could be better. We'll provide a free\, full lunch\, and your ideas and feedback will help shape the future of library programs\, services\, and spaces.\n\nWhy your voice matters:\n\nThe library is for the community\, and your input helps guide real decisions about how we grow\, improve\, and serve people better. These conversations will directly inform our planning and priorities moving forward.\n\n\n\nFree\, Registration Required \n\nPlease use the link below to register and reserve your spot:\n\nhttps://www.fpl.info/events/upcoming?keywords=COMMUNITY%20CONVERSATIONS\n\nSome sessions will offer Spanish translation or ASL interpretation.\n\nSpace is limited to keep conversations meaningful. Registration is required.\n\nPlease email sforeman@fpl.info about any accessibility needs or dietary restrictions   we want everyone to feel welcome and supported.
X-ALT-DESC;FMTTYPE=text/html:<p>Join us for a guided conversation about your experiences with the library &mdash\; what&rsquo\;s working\, what&rsquo\;s missing\, and what could be better. We&rsquo\;ll provide a free\, full lunch\, and your ideas and feedback will help shape the future of library programs\, services\, and spaces.</p>\n\n<p>Why your voice matters:<br />\nThe library is for the community\, and your input helps guide real decisions about how we grow\, improve\, and serve people better. These conversations will directly inform our planning and priorities moving forward.<br />\n<br />\n<span style="background-color:rgb(255\, 255\, 255)\; color:rgb(51\, 51\, 51)\; font-family:sans-serif\,arial\,verdana\,trebuchet ms\; font-size:13px">Free\, Registration Required&nbsp\;</span><br />\n<span style="color:rgb(51\, 51\, 51)\; font-family:sans-serif\,arial\,verdana\,trebuchet ms\; font-size:11pt">Please use the link below to register and reserve your spot:</span><br />\n<a href="https://www.fpl.info/events/upcoming?keywords=COMMUNITY%20CONVERSATIONS" rel="noopener noreferrer" style="color: rgb(7\, 130\, 193)\; background-color: rgb(255\, 255\, 255)\; font-family: Calibri\, Helvetica\, sans-serif\, serif\, EmojiFont\; font-size: 16px\;" target="_blank">https://www.fpl.info/events/upcoming?keywords=COMMUNITY%20CONVERSATIONS</a></p>\n\n<p>Some sessions will offer Spanish translation or ASL interpretation.<br />\nSpace is limited to keep conversations meaningful. Registration is required.<br />\nPlease email&nbsp\;<a href="mailto:sforeman@fpl.info" style="box-sizing: border-box\; color: rgb(192\, 52\, 31)\; text-decoration-line: none\; background-color: transparent\; font-weight: 700\; transition: color 0.2s ease-in-out\;">sforeman@fpl.info</a>&nbsp\;about any accessibility needs or dietary restrictions &mdash\; we want everyone to feel welcome and supported.</p>\n
LOCATION:Gloria Coles Flint Public Library 1026 E. Kearsley St. Flint\, MI 48503 (810) 232-7111
UID:e.2606.20242
SEQUENCE:3
DTSTAMP:20260421T150354Z
URL:https://members.flintandgeneseechamber.org/events/details/gcfpl-s-community-conversations-free-lunch-02-19-2026-20242
END:VEVENT

END:VCALENDAR
