BEGIN:VCALENDAR
VERSION:2.0
PRODID:-//ChamberMaster//Event Calendar 2.0//EN
METHOD:PUBLISH
X-PUBLISHED-TTL:P3D
REFRESH-INTERVAL:P3D
CALSCALE:GREGORIAN
BEGIN:VEVENT
DTSTART:20130223T150000Z
DTEND:20130223T230000Z
X-MICROSOFT-CDO-ALLDAYEVENT:FALSE
SUMMARY:Genesee County Black Business Expo
DESCRIPTION:Genesee County Black Business Expo hosted on Saturday\, February 23rd\, 2013 at the Riverfront Banquet Center doors open at 10am to 6pm. Vendor Booths available the cost is $125.00\, Please call (810) 280-8179\nAdmission is $5.00\, entertainment\, vendors and food. The event is sponsored by Chemical Bank.
X-ALT-DESC;FMTTYPE=text/html:Genesee County Black Business Expo hosted on Saturday\, February 23rd\, 2013 at the Riverfront Banquet Center doors open at 10am to 6pm. Vendor Booths available the cost is $125.00\, Please call (810) 280-8179\nAdmission is $5.00\, entertainment\, vendors and food. The event is sponsored by Chemical Bank.
LOCATION:Riverfront Banquet Center 1 Riverfront Flint MI 48502
UID:e.2606.9
SEQUENCE:3
DTSTAMP:20260422T090917Z
URL:https://members.flintandgeneseechamber.org/events/details/genesee-county-black-business-expo-02-23-2013-9
END:VEVENT

END:VCALENDAR
