BEGIN:VCALENDAR
VERSION:2.0
PRODID:-//ChamberMaster//Event Calendar 2.0//EN
METHOD:PUBLISH
X-PUBLISHED-TTL:P3D
REFRESH-INTERVAL:P3D
CALSCALE:GREGORIAN
BEGIN:VEVENT
DTSTART:20140222T160000Z
DTEND:20140222T200000Z
X-MICROSOFT-CDO-ALLDAYEVENT:FALSE
SUMMARY:Genesee County Black Business Expo 2014
DESCRIPTION:This promises to be an exciting event as we highlight and showcase nearly 60 black businesses from around the Genesee County area.\n\nWe hope that you will join in with us as we celebrate these minority businesses from the Genesee County Area.\n\nEntertainment - Vendors & Food\n\nVendor Booths available!!!\n\nAdmission $5\n\nBooths $125\n\nFor more information\, visit gcblackbusinessexpo.com
X-ALT-DESC;FMTTYPE=text/html:This promises to be an exciting event as we highlight and showcase nearly 60 black businesses from around the Genesee County area.\n\nWe hope that you will join in with us as we celebrate these minority businesses from the Genesee County Area.\n\nEntertainment - Vendors &amp\; Food\n\nVendor Booths available!!!\n\nAdmission $5\n\nBooths $125\n\nFor more information\, visit <a href="http://gcblackbusinessexpo.com/" target="_blank">gcblackbusinessexpo.com</a>\n\n&nbsp\;
LOCATION:Riverfront Banquet Center 1 Riverfront Flint MI 48502
UID:e.2606.631
SEQUENCE:3
DTSTAMP:20260421T142736Z
URL:https://members.flintandgeneseechamber.org/events/details/genesee-county-black-business-expo-2014-02-22-2014-631
END:VEVENT

END:VCALENDAR
