BEGIN:VCALENDAR
VERSION:2.0
PRODID:-//ChamberMaster//Event Calendar 2.0//EN
METHOD:PUBLISH
X-PUBLISHED-TTL:P3D
REFRESH-INTERVAL:P3D
CALSCALE:GREGORIAN
BEGIN:VEVENT
DTSTART:20130818T130000Z
DTEND:20130819T040000Z
X-MICROSOFT-CDO-ALLDAYEVENT:FALSE
SUMMARY:Genesee County Fair “The Big American Dream”
DESCRIPTION:Enjoy 7-days of family fun featuring monster trucks and derby races\, pure pro wrestling\, entertainment tent\, live stock\, 4-H horse show\, Grandstand performances\, carnival rides\, tomato baseball\, cat show\, ugly dog contest\, wing eating competition\, Las Vegas and Bingo tents and so much more. Free gate admission. Have Fun! Play Fair! For a detailed schedule of daily events visit www.gcf.org.
X-ALT-DESC;FMTTYPE=text/html:Enjoy 7-days of family fun featuring monster trucks and derby races\, pure pro wrestling\, entertainment tent\, live stock\, 4-H horse show\, Grandstand performances\, carnival rides\, tomato baseball\, cat show\, ugly dog contest\, wing eating competition\, Las Vegas and Bingo tents and so much more. Free gate admission. Have Fun! Play Fair! For a detailed schedule of daily events visit <a title="Genesee County Fair" href="http://www.gcf.org/" target="_blank">www.gcf.org</a>.
LOCATION:EA Cummings Center 6130 E. Mount Morris Road Mt. Morris MI
UID:e.2606.289
SEQUENCE:3
DTSTAMP:20260421T233953Z
URL:https://members.flintandgeneseechamber.org/events/details/genesee-county-fair-the-big-american-dream-08-18-2013-289
END:VEVENT

END:VCALENDAR
