BEGIN:VCALENDAR
VERSION:2.0
PRODID:-//ChamberMaster//Event Calendar 2.0//EN
METHOD:PUBLISH
X-PUBLISHED-TTL:P3D
REFRESH-INTERVAL:P3D
CALSCALE:GREGORIAN
BEGIN:VEVENT
DTSTART:20140604T130000Z
DTEND:20140604T190000Z
X-MICROSOFT-CDO-ALLDAYEVENT:FALSE
SUMMARY:Genesee County Veteran Stand Down
DESCRIPTION:For homeless and in-need Veterans and their families. Bring proof of veteran status\n\nMany services provided!\n\nRiverfront Amphitheater and\n\nUM Flint Pavilion Rink
X-ALT-DESC;FMTTYPE=text/html:For homeless and in-need Veterans and their families. Bring proof of veteran status\n\nMany services provided!\n\nRiverfront Amphitheater and\n\nUM Flint Pavilion Rink\n\n&nbsp\;
LOCATION:
UID:e.2606.859
SEQUENCE:3
DTSTAMP:20260421T101938Z
URL:https://members.flintandgeneseechamber.org/events/details/genesee-county-veteran-stand-down-06-04-2014-859
END:VEVENT

END:VCALENDAR
