BEGIN:VCALENDAR
VERSION:2.0
PRODID:-//ChamberMaster//Event Calendar 2.0//EN
METHOD:PUBLISH
X-PUBLISHED-TTL:P3D
REFRESH-INTERVAL:P3D
CALSCALE:GREGORIAN
BEGIN:VEVENT
DTSTART:20140404T140000Z
DTEND:20140404T160000Z
X-MICROSOFT-CDO-ALLDAYEVENT:FALSE
SUMMARY:Genesee Health System's Children's Autism Center Grand Opening
DESCRIPTION:10am-12pm Open House\n\nRibbon Cutting at 10am\; tours and refreshments follow\n\nQuestions call 810.496.4955
X-ALT-DESC;FMTTYPE=text/html:10am-12pm Open House\n\nRibbon Cutting at 10am\; tours and refreshments follow\n\nQuestions call 810.496.4955
LOCATION:Children's Autism Center 2700 Robert T. Longway Blvd.\, Suite C Flint MI 48503
UID:e.2606.844
SEQUENCE:3
DTSTAMP:20260421T114153Z
URL:https://members.flintandgeneseechamber.org/events/details/genesee-health-system-s-children-s-autism-center-grand-opening-04-04-2014-844
END:VEVENT

END:VCALENDAR
