BEGIN:VCALENDAR
VERSION:2.0
PRODID:-//ChamberMaster//Event Calendar 2.0//EN
METHOD:PUBLISH
X-PUBLISHED-TTL:P3D
REFRESH-INTERVAL:P3D
CALSCALE:GREGORIAN
BEGIN:VEVENT
DTSTART:20140407T213000Z
DTEND:20140407T233000Z
X-MICROSOFT-CDO-ALLDAYEVENT:FALSE
SUMMARY:Genesee Young Professional Meeting
DESCRIPTION:Genesee Young Professional Meeting!\n\nGuest Speaker will be Christine McComas from Liberty Tax\n\nWhere:  Beef and Barley\n\n2055 S. Linden Road Flint Twp.  48532\n\nTime:  5:30pm - 7:30pm
X-ALT-DESC;FMTTYPE=text/html:Genesee Young Professional Meeting!\n\nGuest Speaker will be Christine McComas from Liberty Tax\n\nWhere:  Beef and Barley\n\n2055 S. Linden Road Flint Twp.  48532\n\nTime:  5:30pm - 7:30pm
LOCATION:Beef and Barley American Kitchen 2055 S. Linden Road Flint MI 48532
UID:e.2606.858
SEQUENCE:3
DTSTAMP:20260421T112252Z
URL:https://members.flintandgeneseechamber.org/events/details/genesee-young-professional-meeting-04-07-2014-858
END:VEVENT

END:VCALENDAR
