BEGIN:VCALENDAR
VERSION:2.0
PRODID:-//ChamberMaster//Event Calendar 2.0//EN
METHOD:PUBLISH
X-PUBLISHED-TTL:P3D
REFRESH-INTERVAL:P3D
CALSCALE:GREGORIAN
BEGIN:VEVENT
DTSTART:20140619T210000Z
DTEND:20140620T010000Z
X-MICROSOFT-CDO-ALLDAYEVENT:FALSE
SUMMARY:Getting Artsy @ Applewood
DESCRIPTION:Experience a fun-filled day and explore the Applewood grounds decked out with art activities and entertainment around every corner. Golf cart shuttles will be available for those with mobility challenges. Light and healthy local refreshments will also be provided. Free admission\, but please consider bringing a food item or toiletries that will be donated to local shelters. For details and a schedule of upcoming events visit www.applewood.org.
X-ALT-DESC;FMTTYPE=text/html:Experience a fun-filled day and explore the Applewood grounds decked out with art activities and entertainment around every corner. Golf cart shuttles will be available for those with mobility challenges. Light and healthy local refreshments will also be provided. Free admission\, but please consider bringing a food item or toiletries that will be donated to local shelters. For details and a schedule of upcoming events visit <a title="Applewood" href="http://www.ruthmottfoundation.org/applewood/" target="_blank">www.applewood.org</a>.
LOCATION:Applewood 1400 E. Kearsley Street Flint Michigan
UID:e.2606.1014
SEQUENCE:3
DTSTAMP:20260421T082759Z
URL:https://members.flintandgeneseechamber.org/events/details/getting-artsy-applewood-06-19-2014-1014
END:VEVENT

END:VCALENDAR
