BEGIN:VCALENDAR
VERSION:2.0
PRODID:-//ChamberMaster//Event Calendar 2.0//EN
METHOD:PUBLISH
X-PUBLISHED-TTL:P3D
REFRESH-INTERVAL:P3D
CALSCALE:GREGORIAN
BEGIN:VEVENT
DTSTART:20130620T210000Z
DTEND:20130621T000000Z
X-MICROSOFT-CDO-ALLDAYEVENT:FALSE
SUMMARY:''Getting Artsy'' at Applewood
DESCRIPTION:Experience a fun-filled afternoon with the family and explore the Applewood grounds decked out with art activities and entertainment around every corner. Light and healthy local refreshments will be provided. Free admission\, but please consider bringing a food item or toiletries with you that will be donated to local shelters. For a detailed schedule of activities visit www.applewood.org.
X-ALT-DESC;FMTTYPE=text/html:Experience a fun-filled afternoon with the family and explore the Applewood grounds decked out with art activities and entertainment around every corner. Light and healthy local refreshments will be provided. Free admission\, but please consider bringing a food item or toiletries with you that will be donated to local shelters. For a detailed schedule of activities visit <a title="Applewood " href="http://www.ruthmottfoundation.org/applewood/" target="_blank">www.applewood.org</a>.
LOCATION:Applewood 1400 E. Kearsley Street Flint Michigan
UID:e.2606.212
SEQUENCE:3
DTSTAMP:20260422T023303Z
URL:https://members.flintandgeneseechamber.org/events/details/getting-artsy-at-applewood-06-20-2013-212
END:VEVENT

END:VCALENDAR
