BEGIN:VCALENDAR
VERSION:2.0
PRODID:-//ChamberMaster//Event Calendar 2.0//EN
METHOD:PUBLISH
X-PUBLISHED-TTL:P3D
REFRESH-INTERVAL:P3D
CALSCALE:GREGORIAN
BEGIN:VEVENT
DTSTART:20140507T130000Z
DTEND:20140507T160000Z
X-MICROSOFT-CDO-ALLDAYEVENT:FALSE
SUMMARY:Getting Started with LinkedIn | CRM-EETC
DESCRIPTION:This workshop is for business professionals who realize LinkedIn’s importance but need some hands-on help to properly utilize it to build their professional network online.\n\nWith a bit lecture and a lot of hands-on learning\, participants will get a good understanding of the basics of LinkedIn\, and will have time and assistance in setting up the following foundational elements\, including:\n\n	Setting up or revamping your professional profile\n	Adding personal connections\n	Following companies and joining groups of interest\n\nIn addition\, participants will leave knowing what they can do on a daily and weekly basis to get the most benefit out of LinkedIn.\n\nIf you are looking to get started with LinkedIn and need a little direction\, this workshop is perfect to get you on track!\n\nReserve your spot today as seating is limited!\n\n*All participants are required to bring a laptop computer (a tablet will work if you don’t have a laptop) that can be connected to a wireless network.  Participants without a current LinkedIn profile will need an active email address to get started\, and are encouraged to have an electronic copy of their resume (or similar information) and digital photo to be used when setting up your profile.
X-ALT-DESC;FMTTYPE=text/html:This workshop is for business professionals who realize LinkedIn’s importance but need some hands-on help to properly utilize it to build their professional network online.\n\nWith a bit lecture and a lot of hands-on learning\, participants will get a good understanding of the basics of LinkedIn\, and will have time and assistance in setting up the following foundational elements\, including:\n<ul>\n	<li>Setting up or revamping your professional profile</li>\n	<li>Adding personal connections</li>\n	<li>Following companies and joining groups of interest</li>\n</ul>\nIn addition\, participants will leave knowing what they can do on a daily and weekly basis to get the most benefit out of LinkedIn.\n\nIf you are looking to get started with LinkedIn and need a little direction\, this workshop is perfect to get you on track!\n\n<strong>Reserve your spot today as seating is limited!</strong>\n\n<em>*All participants are required to bring a laptop computer (a tablet will work if you don’t have a laptop) that can be connected to a wireless network.  Participants without a current LinkedIn profile will need an active email address to get started\, and are encouraged to have an electronic copy of their resume (or similar information) and digital photo to be used when setting up your profile.</em>
LOCATION:Flint & Genesee Chamber of Commerce 519 S. Saginaw St. Flint Michigan 48502
UID:e.2606.930
SEQUENCE:3
DTSTAMP:20260421T094903Z
URL:https://members.flintandgeneseechamber.org/events/details/getting-started-with-linkedin-crm-eetc-05-07-2014-930
END:VEVENT

END:VCALENDAR
