BEGIN:VCALENDAR
VERSION:2.0
PRODID:-//ChamberMaster//Event Calendar 2.0//EN
METHOD:PUBLISH
X-PUBLISHED-TTL:P3D
REFRESH-INTERVAL:P3D
CALSCALE:GREGORIAN
BEGIN:VEVENT
DTSTART:20260120T140000Z
DTEND:20260120T150000Z
X-MICROSOFT-CDO-ALLDAYEVENT:FALSE
SUMMARY:Goal Setting for Government Contractors
DESCRIPTION:2026 is here and there's no time like the present for you to position your company for a winning year in government contracting. \n\n \n\nWhen setting government contracting goals\, companies should focus on establishing specific\, measurable targets like achieving a certain percentage of revenue from government contracts\, winning a set number of new contracts within a specific dollar value range\, or targeting particular agencies and contract types\, while also considering factors like compliance\, market analysis\, and aligning with small business subcontracting goals set by the government agency involved. \n\n \n\nJoin our office for Top 10 Tips to help you create and achieve your goals!
X-ALT-DESC;FMTTYPE=text/html:<p style="margin-top: 0px\; box-sizing: border-box\; color: rgb(36\, 36\, 36)\; font-family: &quot\;Segoe UI&quot\;\, &quot\;Segoe UI Web (West European)&quot\;\, -apple-system\, BlinkMacSystemFont\, Roboto\, &quot\;Helvetica Neue&quot\;\, sans-serif\; font-size: 16px\;"><span style="box-sizing: border-box\; font-size: inherit\;">2026 is here and&nbsp\;<i style="box-sizing: border-box\;"><strong style="box-sizing: border-box\;">there&rsquo\;s no time like the present</strong></i>&nbsp\;for you to position your company for a winning year in government contracting.&nbsp\;</span></p>\n\n<p style="box-sizing: border-box\; color: rgb(36\, 36\, 36)\; font-family: &quot\;Segoe UI&quot\;\, &quot\;Segoe UI Web (West European)&quot\;\, -apple-system\, BlinkMacSystemFont\, Roboto\, &quot\;Helvetica Neue&quot\;\, sans-serif\; font-size: 16px\;">&nbsp\;</p>\n\n<p style="box-sizing: border-box\; color: rgb(36\, 36\, 36)\; font-family: &quot\;Segoe UI&quot\;\, &quot\;Segoe UI Web (West European)&quot\;\, -apple-system\, BlinkMacSystemFont\, Roboto\, &quot\;Helvetica Neue&quot\;\, sans-serif\; font-size: 16px\;"><span style="box-sizing: border-box\; font-size: inherit\;">When setting government contracting goals\, companies should focus on&nbsp\;establishing specific\, measurable targets like achieving a certain percentage of revenue from government contracts\, winning a set number of new contracts within a specific dollar value range\, or targeting particular agencies and contract types\, while also considering factors like compliance\, market analysis\, and aligning with small business subcontracting goals set by the government agency involved.&nbsp\;</span></p>\n\n<p style="box-sizing: border-box\; color: rgb(36\, 36\, 36)\; font-family: &quot\;Segoe UI&quot\;\, &quot\;Segoe UI Web (West European)&quot\;\, -apple-system\, BlinkMacSystemFont\, Roboto\, &quot\;Helvetica Neue&quot\;\, sans-serif\; font-size: 16px\;">&nbsp\;</p>\n\n<p style="margin-bottom: 0px\; box-sizing: border-box\; color: rgb(36\, 36\, 36)\; font-family: &quot\;Segoe UI&quot\;\, &quot\;Segoe UI Web (West European)&quot\;\, -apple-system\, BlinkMacSystemFont\, Roboto\, &quot\;Helvetica Neue&quot\;\, sans-serif\; font-size: 16px\;"><span style="box-sizing: border-box\; font-size: inherit\;">Join our office for&nbsp\;<strong style="box-sizing: border-box\;">Top 10 Tips</strong>&nbsp\;to help you create and achieve your goals!</span></p>\n
LOCATION:Virtual Event
UID:e.2606.20202
SEQUENCE:3
DTSTAMP:20260421T174123Z
URL:https://members.flintandgeneseechamber.org/events/details/goal-setting-for-government-contractors-20202
END:VEVENT

END:VCALENDAR
