BEGIN:VCALENDAR
VERSION:2.0
PRODID:-//ChamberMaster//Event Calendar 2.0//EN
METHOD:PUBLISH
X-PUBLISHED-TTL:P3D
REFRESH-INTERVAL:P3D
CALSCALE:GREGORIAN
BEGIN:VEVENT
DTSTART:20130614T130000Z
DTEND:20130614T210000Z
X-MICROSOFT-CDO-ALLDAYEVENT:FALSE
SUMMARY:Golf Classic
DESCRIPTION:Our Annual Golf Outing is a huge opportunity for relationship building\, deal making and fun.\n\nView pricing and registration information here.\n\nSponsorship opportunities available - contact Debbie Garrison at (810) 600-1416 or dgarrison@flintandgenesee.org.
X-ALT-DESC;FMTTYPE=text/html:Our Annual Golf Outing is a huge opportunity for relationship building\, deal making and fun.\n\n<a href="https://www.flintandgenesee.org/connect/benefits/networking-events/annual-golf-outing/">View pricing and registration information here.</a>\n\nSponsorship opportunities available - contact Debbie Garrison at (810) 600-1416 or <a href="mailto:dgarrison@flintandgenesee.org">dgarrison@flintandgenesee.org</a>.
LOCATION:Flushing Valley Golf Club 1124 W. Main St. Flushing MI 48433
UID:e.2606.31
SEQUENCE:3
DTSTAMP:20260422T023004Z
URL:https://members.flintandgeneseechamber.org/events/details/golf-classic-06-14-2013-31
END:VEVENT

END:VCALENDAR
