BEGIN:VCALENDAR
VERSION:2.0
PRODID:-//ChamberMaster//Event Calendar 2.0//EN
METHOD:PUBLISH
X-PUBLISHED-TTL:P3D
REFRESH-INTERVAL:P3D
CALSCALE:GREGORIAN
BEGIN:VEVENT
DTSTART;VALUE=DATE:20140613
DTEND;VALUE=DATE:20140614
TRANSP:TRANSPARENT
X-MICROSOFT-CDO-ALLDAYEVENT:TRUE
SUMMARY:Golf Classic - TEST with new form
DESCRIPTION:Pricing and registration information to come.\n\nSponsorship opportunities available - contact Debbie Garrison at (810) 600-1416 or dgarrison@flintandgenesee.org.
X-ALT-DESC;FMTTYPE=text/html:Pricing and registration information to come.\n\nSponsorship opportunities available - contact Debbie Garrison at (810) 600-1416 or <a href="mailto:dgarrison@flintandgenesee.org">dgarrison@flintandgenesee.org</a>.
LOCATION:Flushing Valley Golf Club 1124 W. Main St. Flushing MI 48433
UID:e.2606.158
SEQUENCE:3
DTSTAMP:20260421T084358Z
URL:https://members.flintandgeneseechamber.org/events/details/golf-classic-test-with-new-form-06-13-2014-158
END:VEVENT

END:VCALENDAR
