BEGIN:VCALENDAR
VERSION:2.0
PRODID:-//ChamberMaster//Event Calendar 2.0//EN
METHOD:PUBLISH
X-PUBLISHED-TTL:P3D
REFRESH-INTERVAL:P3D
CALSCALE:GREGORIAN
BEGIN:VEVENT
DTSTART;VALUE=DATE:20130824
DTEND;VALUE=DATE:20130826
TRANSP:TRANSPARENT
X-MICROSOFT-CDO-ALLDAYEVENT:TRUE
SUMMARY:Good Times in Goodrich Community Festival
DESCRIPTION:www.goodrichchamber.org
X-ALT-DESC;FMTTYPE=text/html:<a href="http://www.goodrichchamber.org/" target="_blank">www.goodrichchamber.org</a>
LOCATION:
UID:e.2606.58
SEQUENCE:3
DTSTAMP:20260421T234317Z
URL:https://members.flintandgeneseechamber.org/events/details/good-times-in-goodrich-community-festival-08-24-2013-58
END:VEVENT

END:VCALENDAR
