BEGIN:VCALENDAR
VERSION:2.0
PRODID:-//ChamberMaster//Event Calendar 2.0//EN
METHOD:PUBLISH
X-PUBLISHED-TTL:P3D
REFRESH-INTERVAL:P3D
CALSCALE:GREGORIAN
BEGIN:VEVENT
DTSTART:20131205T220000Z
DTEND:20131206T020000Z
X-MICROSOFT-CDO-ALLDAYEVENT:FALSE
SUMMARY:Goodrich ''Christmas Festival''
DESCRIPTION:The Goodrich-Atlas Chamber of Commerce is hosting its annual holiday event. There will be a tree lighting ceremony to include choirs\, carol singing and the reading of the Christmas Story. Through out the downtown area there will be street vendors\, music\, Santa and more. For a detailed schedule of activities visit www.goodrichchamber.org.
X-ALT-DESC;FMTTYPE=text/html:The Goodrich-Atlas Chamber of Commerce is hosting its annual holiday event. There will be a tree lighting ceremony to include choirs\, carol singing and the reading of the Christmas Story. Through out the downtown area there will be street vendors\, music\, Santa and more. For a detailed schedule of activities visit <a title="Goodrich Christmas Festival" href="http://www.goodrichchamber.org/" target="_blank">www.goodrichchamber.org</a>.
LOCATION:Downtown Goodrich Hegel Road Goodrich Michigan
UID:e.2606.59
SEQUENCE:3
DTSTAMP:20260421T171532Z
URL:https://members.flintandgeneseechamber.org/events/details/goodrich-christmas-festival-12-05-2013-59
END:VEVENT

END:VCALENDAR
