BEGIN:VCALENDAR
VERSION:2.0
PRODID:-//ChamberMaster//Event Calendar 2.0//EN
METHOD:PUBLISH
X-PUBLISHED-TTL:P3D
REFRESH-INTERVAL:P3D
CALSCALE:GREGORIAN
BEGIN:VEVENT
DTSTART:20130727T160000Z
DTEND:20130729T000000Z
X-MICROSOFT-CDO-ALLDAYEVENT:FALSE
SUMMARY:Gospel Fest 2013- July 27th & 28th
DESCRIPTION:This highlight event is two glorious days of family fun with two stages running simultaneously over 30  National and local artist performing on Flint's River bank Amphitheater Park.   Over 30 vendors will be on hand woth delicious food.\n\nEvent Times\n\nSaturday July 27   -   noon - 8pm\n\nSunday  July 28    -   2pm -  8pm\n\n  www.gcgospelfest.com\n\nPlease contact 810-280-8179 with any questions
X-ALT-DESC;FMTTYPE=text/html:This highlight event is two glorious days of family fun with two stages running simultaneously over 30  National and local artist performing on Flint's River bank Amphitheater Park.   Over 30 vendors will be on hand woth delicious food.\n\n<span style="text-decoration: underline\;">Event Times</span>\n\nSaturday July 27   -   noon - 8pm\n\nSunday  July 28    -   2pm -  8pm\n\n  <a href="http://www.gcgospelfest.com/">www.gcgospelfest.com</a>\n\nPlease contact 810-280-8179 with any questions
LOCATION:Riverbank Park in Downtown Flint Riverbank Park Flint Michigan
UID:e.2606.421
SEQUENCE:3
DTSTAMP:20260422T004753Z
URL:https://members.flintandgeneseechamber.org/events/details/gospel-fest-2013-july-27th-28th-07-27-2013-421
END:VEVENT

END:VCALENDAR
