BEGIN:VCALENDAR
VERSION:2.0
PRODID:-//ChamberMaster//Event Calendar 2.0//EN
METHOD:PUBLISH
X-PUBLISHED-TTL:P3D
REFRESH-INTERVAL:P3D
CALSCALE:GREGORIAN
BEGIN:VEVENT
DTSTART:20131009T160000Z
DTEND:20131009T210000Z
X-MICROSOFT-CDO-ALLDAYEVENT:FALSE
SUMMARY:Grand Blanc ''Clay Shoot Event''
DESCRIPTION:Enjoy lunch at 12 p.m. with registration beginning at 1 p.m. and a 2 p.m. shot gun start. Visit www.grandblancchamber.com for details and to register team's up to 6 people.
X-ALT-DESC;FMTTYPE=text/html:Enjoy lunch at 12 p.m. with registration beginning at 1 p.m. and a 2 p.m. shot gun start. Visit <a href="http://www.grandblancchamber.com/" target="_blank">www.grandblancchamber.com</a> for details and to register team's up to 6 people.
LOCATION:Grand Blanc Huntsman's Club 9046 Irish Road Grand Blanc Township Michigan
UID:e.2606.64
SEQUENCE:3
DTSTAMP:20260421T201739Z
URL:https://members.flintandgeneseechamber.org/events/details/grand-blanc-clay-shoot-event-10-09-2013-64
END:VEVENT

END:VCALENDAR
