BEGIN:VCALENDAR
VERSION:2.0
PRODID:-//ChamberMaster//Event Calendar 2.0//EN
METHOD:PUBLISH
X-PUBLISHED-TTL:P3D
REFRESH-INTERVAL:P3D
CALSCALE:GREGORIAN
BEGIN:VEVENT
DTSTART;VALUE=DATE:20130823
DTEND;VALUE=DATE:20130824
TRANSP:TRANSPARENT
X-MICROSOFT-CDO-ALLDAYEVENT:TRUE
SUMMARY:Grand Blanc Community Golf Outing
DESCRIPTION:www.grandblancchamber.com
X-ALT-DESC;FMTTYPE=text/html:<a href="http://www.grandblancchamber.com/" target="_blank">www.grandblancchamber.com</a>
LOCATION:
UID:e.2606.63
SEQUENCE:3
DTSTAMP:20260421T233223Z
URL:https://members.flintandgeneseechamber.org/events/details/grand-blanc-community-golf-outing-08-23-2013-63
END:VEVENT

END:VCALENDAR
