BEGIN:VCALENDAR
VERSION:2.0
PRODID:-//ChamberMaster//Event Calendar 2.0//EN
METHOD:PUBLISH
X-PUBLISHED-TTL:P3D
REFRESH-INTERVAL:P3D
CALSCALE:GREGORIAN
BEGIN:VEVENT
DTSTART;VALUE=DATE:20130620
DTEND;VALUE=DATE:20130624
TRANSP:TRANSPARENT
X-MICROSOFT-CDO-ALLDAYEVENT:TRUE
SUMMARY:Grand Blanc Family Fun Fest
DESCRIPTION:Come out to Grand Blanc for some summer family fun featuring carnival rides\, vendors\, contests\, an adult entertainment tent\, live music and much more. Festival runs Thursday 5 p.m. to 10 p.m.\, Friday 5 p.m. to 11 p.m.\, Saturday 12 p.m. to 11 p.m. and Sunday 12 p.m. to 7 p.m. For a detailed list of scheduled events visit www.grandblancchamber.com.
X-ALT-DESC;FMTTYPE=text/html:Come out to Grand Blanc for some summer family fun featuring carnival rides\, vendors\, contests\, an adult entertainment tent\, live music and much more. Festival runs Thursday 5 p.m. to 10 p.m.\, Friday 5 p.m. to 11 p.m.\, Saturday 12 p.m. to 11 p.m. and Sunday 12 p.m. to 7 p.m. For a detailed list of scheduled events visit <a href="http://www.grandblancchamber.com/" target="_blank">www.grandblancchamber.com</a>.
LOCATION:Downtown Grand Blanc Physicians Park Physicians Park Grand Blanc Michigan
UID:e.2606.60
SEQUENCE:3
DTSTAMP:20260422T023431Z
URL:https://members.flintandgeneseechamber.org/events/details/grand-blanc-family-fun-fest-06-20-2013-60
END:VEVENT

END:VCALENDAR
