BEGIN:VCALENDAR
VERSION:2.0
PRODID:-//ChamberMaster//Event Calendar 2.0//EN
METHOD:PUBLISH
X-PUBLISHED-TTL:P3D
REFRESH-INTERVAL:P3D
CALSCALE:GREGORIAN
BEGIN:VEVENT
DTSTART:20241017T173000Z
DTEND:20241017T203000Z
X-MICROSOFT-CDO-ALLDAYEVENT:FALSE
SUMMARY:Grant Writing 101
DESCRIPTION:In this interactive session\, participants will gain an understanding of what grants are (and are not).They will gain strategies for identifying potential funders\, learn to identify the common components of grants\, begin work on creating those components\, and determine which projects or programs in their organizations might be eligible for grant funding. This session will also cover common reasons grants are not funded and ways to avoid these mistakes. \n\n \n\nFacilitated by: Flint & Genesee Group Grants Team
X-ALT-DESC;FMTTYPE=text/html:<span class="TextRun SCXW31196916 BCX0" data-contrast="auto" lang="EN-US" style="accent-color: auto\; place-content: normal\; place-items: normal\; place-self: auto\; alignment-baseline: auto\; anchor-name: none\; animation: 0s ease 0s 1 normal none running none\; animation-composition: replace\; app-region: none\; appearance: none\; aspect-ratio: auto\; backdrop-filter: none\; backface-visibility: visible\; background: none 0% 0% / auto repeat scroll padding-box border-box rgba(0\, 0\, 0\, 0)\; background-blend-mode: normal\; baseline-shift: 0px\; baseline-source: auto\; border-image: none 100% / 1 / 0 stretch\; border-color: rgb(0\, 0\, 0)\; border-collapse: separate\; border-end-end-radius: 0px\; border-end-start-radius: 0px\; border-width: 0px\; border-style: none\; border-spacing: 0px\; border-start-end-radius: 0px\; border-start-start-radius: 0px\; border-radius: 0px\; inset: auto\; box-shadow: none\; box-sizing: content-box\; break-after: auto\; break-before: auto\; break-inside: auto\; buffered-rendering: auto\; caption-side: top\; caret-color: rgb(0\, 0\, 0)\; clear: none\; clip: auto\; clip-path: none\; clip-rule: nonzero\; color: rgb(0\, 0\, 0)\; color-interpolation: srgb\; color-interpolation-filters: linearrgb\; color-rendering: auto\; color-scheme: normal\; columns: auto\; column-fill: balance\; gap: normal\; column-rule: 0px rgb(0\, 0\, 0)\; column-span: none\; contain: none\; contain-intrinsic-block-size: none\; contain-intrinsic-size: none\; contain-intrinsic-inline-size: none\; container: none\; content: normal\; content-visibility: visible\; counter-increment: none\; counter-reset: none\; counter-set: none\; cursor: text\; cx: 0px\; cy: 0px\; d: none\; direction: ltr\; display: inline\; dominant-baseline: auto\; empty-cells: show\; field-sizing: fixed\; fill: rgb(0\, 0\, 0)\; fill-opacity: 1\; fill-rule: nonzero\; filter: none\; flex: 0 1 auto\; flex-flow: row\; float: none\; flood-color: rgb(0\, 0\, 0)\; flood-opacity: 1\; font-family: WordVisi_MSFontService\, Arial\, Arial_EmbeddedFont\, Arial_MSFontService\, sans-serif\; font-feature-settings: normal\; font-kerning: none\; font-optical-sizing: auto\; font-palette: normal\; font-size: 16px\; font-stretch: 100%\; font-style: normal\; font-synthesis: weight style small-caps\; font-variant-ligatures: none\; font-variant-numeric: normal\; font-variant-east-asian: normal\; font-variant-alternates: normal\; font-variant-position: normal\; font-variation-settings: normal\; forced-color-adjust: auto\; grid-area: auto\; grid: none\; height: auto\; hyphenate-character: auto\; hyphenate-limit-chars: auto\; hyphens: manual\; image-orientation: from-image\; image-rendering: auto\; initial-letter: normal\; inline-size: auto\; inset-area: none\; inset-block: auto\; inset-inline: auto\; isolation: auto\; lighting-color: rgb(255\, 255\, 255)\; line-break: auto\; line-height: 19.275px\; list-style: outside none disc\; margin: 0px\; marker: none\; mask: none\; mask-type: luminance\; math-depth: 0\; math-shift: normal\; math-style: normal\; max-height: none\; max-width: none\; min-height: 0px\; min-width: 0px\; mix-blend-mode: normal\; object-fit: fill\; object-position: 50% 50%\; object-view-box: none\; offset: normal\; opacity: 1\; order: 0\; outline: rgb(0\, 0\, 0) none 0px\; outline-offset: 0px\; overflow: visible\; overflow-anchor: auto\; overflow-clip-margin: 0px\; overflow-wrap: break-word\; overlay: none\; overscroll-behavior-block: auto\; overscroll-behavior-inline: auto\; overscroll-behavior: auto\; padding: 0px\; page: auto\; paint-order: normal\; perspective: none\; perspective-origin: 0px 0px\; pointer-events: auto\; position: static\; position-anchor: implicit\; position-try: none\; position-visibility: always\; quotes: auto\; r: 0px\; resize: none\; rotate: none\; ruby-position: over\; rx: auto\; ry: auto\; scale: none\; scroll-behavior: auto\; scroll-margin-block: 0px\; scroll-margin: 0px\; scroll-margin-inline: 0px\; scroll-padding-block: auto\; scroll-padding: auto\; scroll-padding-inline: auto\; scroll-snap-align: none\; scroll-snap-stop: normal\; scroll-snap-type: none\; scroll-timeline: none\; scrollbar-color: auto\; scrollbar-gutter: auto\; scrollbar-width: auto\; shape-image-threshold: 0\; shape-margin: 0px\; shape-outside: none\; shape-rendering: auto\; speak: normal\; stop-color: rgb(0\, 0\, 0)\; stop-opacity: 1\; stroke: none\; stroke-dasharray: none\; stroke-dashoffset: 0px\; stroke-linecap: butt\; stroke-linejoin: miter\; stroke-miterlimit: 4\; stroke-opacity: 1\; stroke-width: 1px\; tab-size: 8\; table-layout: auto\; text-align-last: auto\; text-anchor: start\; text-combine-upright: none\; text-decoration-style: solid\; text-decoration-color: rgb(0\, 0\, 0)\; text-decoration-skip-ink: auto\; text-emphasis: none rgb(0\, 0\, 0)\; text-emphasis-position: over\; text-orientation: mixed\; text-overflow: clip\; text-rendering: auto\; text-shadow: none\; text-size-adjust: auto\; text-spacing-trim: normal\; text-underline-offset: auto\; text-underline-position: auto\; white-space-collapse: preserve\; timeline-scope: none\; touch-action: auto\; transform: none\; transform-box: view-box\; transform-origin: 0px 0px\; transform-style: flat\; transition: all 0s ease 0s\; translate: none\; unicode-bidi: normal\; user-select: text\; vector-effect: none\; vertical-align: baseline\; view-timeline: none\; view-transition-class: none\; view-transition-name: none\; visibility: visible\; border-block-end: 0px none rgb(0\, 0\, 0)\; border-block-start: 0px none rgb(0\, 0\, 0)\; border-inline-end: 0px none rgb(0\, 0\, 0)\; -webkit-border-image: none\; border-inline-start: 0px none rgb(0\, 0\, 0)\; -webkit-box-align: stretch\; -webkit-box-decoration-break: slice\; -webkit-box-direction: normal\; -webkit-box-flex: 0\; -webkit-box-ordinal-group: 1\; -webkit-box-orient: horizontal\; -webkit-box-pack: start\; -webkit-font-smoothing: auto\; -webkit-line-break: auto\; -webkit-locale: &quot\;en-US&quot\;\; block-size: auto\; margin-block: 0px\; margin-inline: 0px\; -webkit-mask-box-image-source: none\; -webkit-mask-box-image-slice: 0 fill\; -webkit-mask-box-image-width: auto\; -webkit-mask-box-image-outset: 0\; -webkit-mask-box-image-repeat: stretch\; max-block-size: none\; max-inline-size: none\; min-block-size: 0px\; min-inline-size: 0px\; padding-block: 0px\; padding-inline: 0px\; -webkit-print-color-adjust: economy\; -webkit-rtl-ordering: logical\; -webkit-ruby-position: before\; -webkit-tap-highlight-color: rgba(0\, 0\, 0\, 0)\; -webkit-text-combine: none\; -webkit-text-fill-color: rgb(0\, 0\, 0)\; -webkit-text-orientation: vertical-right\; -webkit-text-security: none\; -webkit-text-stroke-color: rgb(0\, 0\, 0)\; -webkit-user-drag: none\; -webkit-user-modify: read-only\; -webkit-writing-mode: horizontal-tb\; width: auto\; will-change: auto\; word-break: normal\; writing-mode: horizontal-tb\; x: 0px\; y: 0px\; z-index: auto\; zoom: 1\;" xml:lang="EN-US"><span class="NormalTextRun SCXW31196916 BCX0">In this interactive session\, participants will gain an understanding of what grants are (and are not).</span></span><span class="TextRun SCXW190849821 BCX0" data-contrast="auto" lang="EN-US" style="-webkit-user-drag: none\; -webkit-tap-highlight-color: transparent\; margin: 0px\; padding: 0px\; user-select: text\; color: rgb(0\, 0\, 0)\; font-style: normal\; white-space-collapse: preserve\; font-size: 12pt\; line-height: 19.275px\; font-family: Arial\, Arial_EmbeddedFont\, Arial_MSFontService\, sans-serif\; font-variant-ligatures: none !important\;" xml:lang="EN-US"><span class="NormalTextRun SCXW190849821 BCX0" style="-webkit-user-drag: none\; -webkit-tap-highlight-color: transparent\; margin: 0px\; padding: 0px\; user-select: text\;">They will gain strategies for </span><span class="NormalTextRun SCXW190849821 BCX0" style="-webkit-user-drag: none\; -webkit-tap-highlight-color: transparent\; margin: 0px\; padding: 0px\; user-select: text\;">identifying</span><span class="NormalTextRun SCXW190849821 BCX0" style="-webkit-user-drag: none\; -webkit-tap-highlight-color: transparent\; margin: 0px\; padding: 0px\; user-select: text\;"> potential funders\, learn to </span><span class="NormalTextRun SCXW190849821 BCX0" style="-webkit-user-drag: none\; -webkit-tap-highlight-color: transparent\; margin: 0px\; padding: 0px\; user-select: text\;">identify</span><span class="NormalTextRun SCXW190849821 BCX0" style="-webkit-user-drag: none\; -webkit-tap-highlight-color: transparent\; margin: 0px\; padding: 0px\; user-select: text\;"> the common components of grants\, begin work on creating those components\, and </span><span class="NormalTextRun SCXW190849821 BCX0" style="-webkit-user-drag: none\; -webkit-tap-highlight-color: transparent\; margin: 0px\; padding: 0px\; user-select: text\;">determine</span><span class="NormalTextRun SCXW190849821 BCX0" style="-webkit-user-drag: none\; -webkit-tap-highlight-color: transparent\; margin: 0px\; padding: 0px\; user-select: text\;"> which projects or programs in their organizations might be eligible for grant funding. This session will also cover common reasons grants are not funded and ways to avoid these mistakes.</span></span><span class="LineBreakBlob BlobObject DragDrop SCXW190849821 BCX0" style="-webkit-user-drag: none\; -webkit-tap-highlight-color: transparent\; margin: 0px\; padding: 0px\; user-select: text\; color: rgb(0\, 0\, 0)\; white-space-collapse: preserve\; font-size: 12pt\; line-height: 19.275px\; font-family: WordVisiCarriageReturn_MSFontService\, Arial\, Arial_EmbeddedFont\, Arial_MSFontService\, sans-serif\;"><span class="SCXW190849821 BCX0" style="-webkit-user-drag: none\; -webkit-tap-highlight-color: transparent\; margin: 0px\; padding: 0px\; user-select: text\; text-wrap: nowrap !important\;">&nbsp\;</span></span><br class="SCXW190849821 BCX0" style="-webkit-user-drag: none\; -webkit-tap-highlight-color: transparent\; margin: 0px\; padding: 0px\; user-select: text\; text-wrap: nowrap !important\;" />\n<span class="LineBreakBlob BlobObject DragDrop SCXW190849821 BCX0" style="-webkit-user-drag: none\; -webkit-tap-highlight-color: transparent\; margin: 0px\; padding: 0px\; user-select: text\; color: rgb(0\, 0\, 0)\; white-space-collapse: preserve\; font-size: 11pt\; line-height: 19.275px\; font-family: WordVisiCarriageReturn_MSFontService\, Calibri\, Calibri_EmbeddedFont\, Calibri_MSFontService\, sans-serif\;"><span class="SCXW190849821 BCX0" style="-webkit-user-drag: none\; -webkit-tap-highlight-color: transparent\; margin: 0px\; padding: 0px\; user-select: text\; text-wrap: nowrap !important\;">&nbsp\;</span></span><br class="SCXW190849821 BCX0" style="-webkit-user-drag: none\; -webkit-tap-highlight-color: transparent\; margin: 0px\; padding: 0px\; user-select: text\; text-wrap: nowrap !important\;" />\n<span class="TextRun SCXW190849821 BCX0" data-contrast="auto" lang="EN-US" style="-webkit-user-drag: none\; -webkit-tap-highlight-color: transparent\; margin: 0px\; padding: 0px\; user-select: text\; color: rgb(0\, 0\, 0)\; font-style: normal\; white-space-collapse: preserve\; font-size: 12pt\; line-height: 19.275px\; font-family: Arial\, Arial_EmbeddedFont\, Arial_MSFontService\, sans-serif\; font-variant-ligatures: none !important\;" xml:lang="EN-US">Facilitated by: Flint &amp\; Genesee Group Grants Team</span><span class="EOP SCXW190849821 BCX0" data-ccp-props="{&quot\;201341983&quot\;:0\,&quot\;335559739&quot\;:160\,&quot\;335559740&quot\;:257}" style="-webkit-user-drag: none\; -webkit-tap-highlight-color: transparent\; margin: 0px\; padding: 0px\; user-select: text\; color: rgb(0\, 0\, 0)\; white-space-collapse: preserve\; font-size: 12pt\; line-height: 19.275px\; font-family: Arial\, Arial_EmbeddedFont\, Arial_MSFontService\, sans-serif\;">&nbsp\;</span>
LOCATION:Gloria Coles Flint Public Library | Harris Room
UID:e.2606.18306
SEQUENCE:3
DTSTAMP:20260425T224830Z
URL:https://members.flintandgeneseechamber.org/events/details/grant-writing-101-18306
END:VEVENT

END:VCALENDAR
