BEGIN:VCALENDAR
VERSION:2.0
PRODID:-//ChamberMaster//Event Calendar 2.0//EN
METHOD:PUBLISH
X-PUBLISHED-TTL:P3D
REFRESH-INTERVAL:P3D
CALSCALE:GREGORIAN
BEGIN:VEVENT
DTSTART:20140222T203000Z
DTEND:20140223T213000Z
X-MICROSOFT-CDO-ALLDAYEVENT:FALSE
SUMMARY:''Great Space Chase'' Laser Show at Longway Planetarium
DESCRIPTION:The Intergalactic Accelerator Suit has been stolen and Lieutenant Photeus and the computer glitch\, Thacker\, set off in hot pursuit of the sinister Captain Zenon. Learn all about the Solar System and the universe around us in this exciting show featuring music from science fiction films and space-themed rock from Madonna\, U2\, Paul Okenfold\, Monty Python and more. Recommended for ages 4 and older. For details and a schedule of upcoming shows visit www.sloanlongway.com.
X-ALT-DESC;FMTTYPE=text/html:The Intergalactic Accelerator Suit has been stolen and Lieutenant Photeus and the computer glitch\, Thacker\, set off in hot pursuit of the sinister Captain Zenon. Learn all about the Solar System and the universe around us in this exciting show featuring music from science fiction films and space-themed rock from Madonna\, U2\, Paul Okenfold\, Monty Python and more. Recommended for ages 4 and older. For details and a schedule of upcoming shows visit <a title="Longway Planetarium " href="http://www.sloanlongway.com/" target="_blank">www.sloanlongway.com</a>.
LOCATION:Longway Planetarium 1310 E. Kearsley Street Flint Michigan
UID:e.2606.761
SEQUENCE:3
DTSTAMP:20260421T142735Z
URL:https://members.flintandgeneseechamber.org/events/details/great-space-chase-laser-show-at-longway-planetarium-02-22-2014-761
END:VEVENT

END:VCALENDAR
