BEGIN:VCALENDAR
VERSION:2.0
PRODID:-//ChamberMaster//Event Calendar 2.0//EN
METHOD:PUBLISH
X-PUBLISHED-TTL:P3D
REFRESH-INTERVAL:P3D
CALSCALE:GREGORIAN
BEGIN:VEVENT
DTSTART:20130621T160000Z
DTEND:20130624T030000Z
X-MICROSOFT-CDO-ALLDAYEVENT:FALSE
SUMMARY:''Greek Festival'' at Assumption Greek Orthodox Church in Grand Blanc
DESCRIPTION:Enjoy homemade Greek food and pastries\, family entertainment\, bungee jumping\, pony rides\, face painting\, door prizes and more. Festival hours are Friday and Saturday from 12 p.m. to 11 p.m. and on Sunday from 12 p.m. to 8 p.m.
X-ALT-DESC;FMTTYPE=text/html:Enjoy homemade Greek food and pastries\, family entertainment\, bungee jumping\, pony rides\, face painting\, door prizes and more. Festival hours are Friday and Saturday from 12 p.m. to 11 p.m. and on Sunday from 12 p.m. to 8 p.m.
LOCATION:Assumption Greek Orthodox Church 2245 E. Baldwin Road Grand Blanc Michigan
UID:e.2606.214
SEQUENCE:3
DTSTAMP:20260422T024029Z
URL:https://members.flintandgeneseechamber.org/events/details/greek-festival-at-assumption-greek-orthodox-church-in-grand-blanc-06-21-2013-214
END:VEVENT

END:VCALENDAR
