BEGIN:VCALENDAR
VERSION:2.0
PRODID:-//ChamberMaster//Event Calendar 2.0//EN
METHOD:PUBLISH
X-PUBLISHED-TTL:P3D
REFRESH-INTERVAL:P3D
CALSCALE:GREGORIAN
BEGIN:VEVENT
DTSTART:20131104T223000Z
DTEND:20131105T000000Z
X-MICROSOFT-CDO-ALLDAYEVENT:FALSE
SUMMARY:GRYP Meeting - Blackstones Pub and Grill
DESCRIPTION:Come join GRYP!  The monthly Genesee Regional Young Professionals (GRYP) meeting\, a committee of the Flint & Genesee Chamber of Commerce\, is being hosted at Blackstone's Pub and Grill on Monday\, November 4th at 5:30!  Be there!
X-ALT-DESC;FMTTYPE=text/html:Come join GRYP!  The monthly Genesee Regional Young Professionals (GRYP) meeting\, a committee of the Flint &amp\; Genesee Chamber of Commerce\, is being hosted at <a href="http://blackstonesgrill.com/" target="_blank">Blackstone's Pub and Grill</a> on Monday\, November 4th at 5:30!  Be there!\n\n&nbsp\;
LOCATION:Blackstone's Pub & Grill 531 S. Saginaw Street Flint MI 48502
UID:e.2606.561
SEQUENCE:3
DTSTAMP:20260421T185042Z
URL:https://members.flintandgeneseechamber.org/events/details/gryp-meeting-blackstones-pub-and-grill-11-04-2013-561
END:VEVENT

END:VCALENDAR
