BEGIN:VCALENDAR
VERSION:2.0
PRODID:-//ChamberMaster//Event Calendar 2.0//EN
METHOD:PUBLISH
X-PUBLISHED-TTL:P3D
REFRESH-INTERVAL:P3D
CALSCALE:GREGORIAN
BEGIN:VEVENT
DTSTART:20131007T213000Z
DTEND:20131007T230000Z
X-MICROSOFT-CDO-ALLDAYEVENT:FALSE
SUMMARY:GRYP Monthly Meeting - Blackstone's Pub & Grill
DESCRIPTION:The monthly Genesee Regional Young Professionals (GRYP) meeting\, a committee of the Flint & Genesee Chamber of Commerce\, is being hosted at Churchill's Food and Spirts.
X-ALT-DESC;FMTTYPE=text/html:The monthly Genesee Regional Young Professionals (GRYP) meeting\, a committee of the Flint &amp\; Genesee Chamber of Commerce\, is being hosted at <a href="http://churchillsflint.com" target="_blank">Churchill's Food and Spirts</a>.
LOCATION:Churchill's Food and Spirts 340 S. Saginaw Street Flint MI 48502
UID:e.2606.551
SEQUENCE:3
DTSTAMP:20260421T202950Z
URL:https://members.flintandgeneseechamber.org/events/details/gryp-monthly-meeting-blackstone-s-pub-grill-10-07-2013-551
END:VEVENT

END:VCALENDAR
