BEGIN:VCALENDAR
VERSION:2.0
PRODID:-//ChamberMaster//Event Calendar 2.0//EN
METHOD:PUBLISH
X-PUBLISHED-TTL:P3D
REFRESH-INTERVAL:P3D
CALSCALE:GREGORIAN
BEGIN:VEVENT
DTSTART:20131016T210000Z
DTEND:20131016T230000Z
X-MICROSOFT-CDO-ALLDAYEVENT:FALSE
SUMMARY:GRYP's Meet the Executives
DESCRIPTION:The Genesee Regional Young Professionals (GRYP) are pleased to welcome Kathi Horton\, President of the Community Foundation of Greater Flint\; Kathy Rometty\, Director of Community Relations for Goodwill Industries of Mid-MI\; and Dan Russell\, Executive Director of Genesee County Community Mental Health\, to the sixth panel of the “MEET THE EXECUTIVES” series.\n\nThe panelists will provide insight in to how they became executives and key decision makers as they moved along their career path. The interaction with the panelists will include time for the guests to ask questions.\n\nRegistration begins at 5:00 p.m.\n\nPanel discussion begins at 5:30 p.m.\n\nCost: Free\, courtesy of GRYP and the Flint & Genesee Chamber of Commerce\; registration required.\n\nGRYP is a membership-based\, volunteer committee of the Flint & Genesee Chamber of Commerce. It's geared toward young professionals living and working in Genesee County who want to expand their social networks\, grow professionally\, and make a difference in our region. For more information\, contact GRYP at (810) 618-6769 or flintandgenesee.org.
X-ALT-DESC;FMTTYPE=text/html:The <a href="http://www.flintandgenesee.org/connect/committees/genesee-regional-young-professionals/">Genesee Regional Young Professionals (GRYP)</a> are pleased to welcome Kathi Horton\, President of the Community Foundation of Greater Flint\; Kathy Rometty\, Director of Community Relations for Goodwill Industries of Mid-MI\; and Dan Russell\, Executive Director of Genesee County Community Mental Health\, to the sixth panel of the “MEET THE EXECUTIVES” series.\n\nThe panelists will provide insight in to how they became executives and key decision makers as they moved along their career path. The interaction with the panelists will include time for the guests to ask questions.\n\nRegistration begins at 5:00 p.m.\n\nPanel discussion begins at 5:30 p.m.\n\nCost: Free\, courtesy of GRYP and the Flint &amp\; Genesee Chamber of Commerce\; registration required.\n\nGRYP is a membership-based\, volunteer committee of the Flint &amp\; Genesee Chamber of Commerce. It's geared toward young professionals living and working in Genesee County who want to expand their social networks\, grow professionally\, and make a difference in our region. For more information\, contact GRYP at (810) 618-6769 or <a href="http://www.flintandgenesee.org/connect/committees/genesee-regional-young-professionals/">flintandgenesee.org</a>.
LOCATION:Community Foundation of Greater Flint 500 S. Saginaw\, Suite 200 Flint MI 48502
UID:e.2606.509
SEQUENCE:3
DTSTAMP:20260421T202742Z
URL:https://members.flintandgeneseechamber.org/events/details/gryp-s-meet-the-executives-10-16-2013-509
END:VEVENT

END:VCALENDAR
