BEGIN:VCALENDAR
VERSION:2.0
PRODID:-//ChamberMaster//Event Calendar 2.0//EN
METHOD:PUBLISH
X-PUBLISHED-TTL:P3D
REFRESH-INTERVAL:P3D
CALSCALE:GREGORIAN
BEGIN:VEVENT
DTSTART:20130522T153000Z
DTEND:20130522T170000Z
X-MICROSOFT-CDO-ALLDAYEVENT:FALSE
SUMMARY:GRYP's Table Talk with Jim Lautenschleger
DESCRIPTION:Current and prospective GRYP (Genesee Regional Young Professional) members are invited to Table Talk with Jim Lautenschleger\, Business Solutions Network Manager at Workforce Development Agency for the State of Michigan.  Network over lunch with other area young professionals and learn what's new with the State of Michigan.\n\nCost: Free but registration is required.  Seating is limited.\n\nFor questions or more information call (810) 600-1404 or email gryp@thegrcc.org.
X-ALT-DESC;FMTTYPE=text/html:Current and prospective GRYP (Genesee Regional Young Professional) members are invited to Table Talk with Jim Lautenschleger\, Business Solutions Network Manager at Workforce Development Agency for the State of Michigan.  Network over lunch with other area young professionals and learn what's new with the State of Michigan.\n\nCost: Free but registration is required.  Seating is limited.\n\nFor questions or more information call (810) 600-1404 or email <a href="mailto:bsullivan@thegrcc.org" shape="rect" target="_blank">gryp@thegrcc.org</a>.
LOCATION:Latina Italian Restaurant 1370 W. Bristol Road Flint MI 48507
UID:e.2606.157
SEQUENCE:3
DTSTAMP:20260422T041849Z
URL:https://members.flintandgeneseechamber.org/events/details/gryp-s-table-talk-with-jim-lautenschleger-05-22-2013-157
END:VEVENT

END:VCALENDAR
