BEGIN:VCALENDAR
VERSION:2.0
PRODID:-//ChamberMaster//Event Calendar 2.0//EN
METHOD:PUBLISH
X-PUBLISHED-TTL:P3D
REFRESH-INTERVAL:P3D
CALSCALE:GREGORIAN
BEGIN:VEVENT
DTSTART;VALUE=DATE:20131031
DTEND;VALUE=DATE:20131101
TRANSP:TRANSPARENT
X-MICROSOFT-CDO-ALLDAYEVENT:TRUE
SUMMARY:''Halloween Ghosts & Goodies''
DESCRIPTION:http://www.geneseecountyparks.org/pages/Halloween
X-ALT-DESC;FMTTYPE=text/html:<a href="http://www.geneseecountyparks.org/pages/Halloween">http://www.geneseecountyparks.org/pages/Halloween</a>
LOCATION:Crossroads Village & Huckleberry Railroad 6140 Bray Road Flint Michigan
UID:e.2606.254
SEQUENCE:3
DTSTAMP:20260421T202717Z
URL:https://members.flintandgeneseechamber.org/events/details/halloween-ghosts-goodies-10-31-2013-254
END:VEVENT

END:VCALENDAR
