BEGIN:VCALENDAR
VERSION:2.0
PRODID:-//ChamberMaster//Event Calendar 2.0//EN
METHOD:PUBLISH
X-PUBLISHED-TTL:P3D
REFRESH-INTERVAL:P3D
CALSCALE:GREGORIAN
BEGIN:VEVENT
DTSTART:20131018T160000Z
DTEND:20131021T010000Z
X-MICROSOFT-CDO-ALLDAYEVENT:FALSE
SUMMARY:''Halloween Ghosts & Goodies'' at Crossroads Village & Huckleberry Railroad
DESCRIPTION:Join your favorite spooky friends as Crossroads Village celebrates their 25th anniversary of Ghosts & Goodies! Take a walk through the enchanted forest and find your way through the straw maze. Enjoy a magic show and ride the famous Huckleberry Ghost Train Express! There's plenty of silly Halloween fun complete with trick-or-treating and doughnuts and candy for everyone! The Village is open on Friday from 5 p.m. to 9 p.m. and on Saturday and Sunday from 12 noon to 9 p.m. For a detailed schedule of activities and a peek view at Crossroad's upcoming Christmas celebration visit www.geneseecountyparks.org.
X-ALT-DESC;FMTTYPE=text/html:Join your favorite spooky friends as Crossroads Village celebrates their 25th anniversary of Ghosts &amp\; Goodies! Take a walk through the enchanted forest and find your way through the straw maze. Enjoy a magic show and ride the famous Huckleberry Ghost Train Express! There's plenty of silly Halloween fun complete with trick-or-treating and doughnuts and candy for everyone! The Village is open on Friday from 5 p.m. to 9 p.m. and on Saturday and Sunday from 12 noon to 9 p.m. For a detailed schedule of activities and a peek view at Crossroad's upcoming Christmas celebration visit <a title="Crossroads Village &amp\; Huckleberry Railroad" href="http://www.geneseecountyparks.org/pages/Halloween" target="_blank">www.geneseecountyparks.org</a>.
LOCATION:Crossroads Village & Huckleberry Railroad 6140 Bray Road Flint Michigan
UID:e.2606.252
SEQUENCE:3
DTSTAMP:20260421T203220Z
URL:https://members.flintandgeneseechamber.org/events/details/halloween-ghosts-goodies-at-crossroads-village-huckleberry-railroad-10-18-2013-252
END:VEVENT

END:VCALENDAR
