BEGIN:VCALENDAR
VERSION:2.0
PRODID:-//ChamberMaster//Event Calendar 2.0//EN
METHOD:PUBLISH
X-PUBLISHED-TTL:P3D
REFRESH-INTERVAL:P3D
CALSCALE:GREGORIAN
BEGIN:VEVENT
DTSTART:20140517T150000Z
DTEND:20140517T190000Z
X-MICROSOFT-CDO-ALLDAYEVENT:FALSE
SUMMARY:HealthPlus Tour de Crim Bicycle Ride
DESCRIPTION:The Crim Fitness Foundation is hosting the 2nd annual bicycle ride on the Crim 10-mile course with updated obstacles\, lower age limits and festival lot activities. Enjoy the ride at your own pace and/or challenge yourself at the obstacles. Post-ride festivities will include interactive art stations\, music\, food\, Michigan Microbrews\, soft drinks and artisan breads and more. For details and a schedule of upcoming Crim events visit www.crim.org.
X-ALT-DESC;FMTTYPE=text/html:The Crim Fitness Foundation is hosting the 2nd annual bicycle ride on the Crim 10-mile course with updated obstacles\, lower age limits and festival lot activities. Enjoy the ride at your own pace and/or challenge yourself at the obstacles. Post-ride festivities will include interactive art stations\, music\, food\, Michigan Microbrews\, soft drinks and artisan breads and more. For details and a schedule of upcoming Crim events visit <a title="Crim Fitness Foundation" href="http://www.crim.org/" target="_blank">www.crim.org</a>.\n\n&nbsp\;
LOCATION:Crim Fitness Foundation 452 S. Saginaw Street Flint Michigan
UID:e.2606.908
SEQUENCE:3
DTSTAMP:20260421T104424Z
URL:https://members.flintandgeneseechamber.org/events/details/healthplus-tour-de-crim-bicycle-ride-05-17-2014-908
END:VEVENT

END:VCALENDAR
