BEGIN:VCALENDAR
VERSION:2.0
PRODID:-//ChamberMaster//Event Calendar 2.0//EN
METHOD:PUBLISH
X-PUBLISHED-TTL:P3D
REFRESH-INTERVAL:P3D
CALSCALE:GREGORIAN
BEGIN:VEVENT
DTSTART:20131109T123000Z
DTEND:20131110T190000Z
X-MICROSOFT-CDO-ALLDAYEVENT:FALSE
SUMMARY:HERO Round Table
DESCRIPTION:Think like a hero. Learn how to tap your inner hero at the Hero Round Table\, the first interdisciplinary conference on heroism\, November 9 & 10. The world’s leading thinkers on heroism are coming to Genesee County for two days of learning\, inspiration\, networking and collaboration. Topics include stopping bullying in schools and the workplace\, women heroes the psychology of heroic behavior. To find out more\, or secure your seat at the “round table\,” visit www.heroroundtable.com.
X-ALT-DESC;FMTTYPE=text/html:Think like a hero. Learn how to tap your inner hero at the <a href="http://www.heroroundtable.com/" target="_blank">Hero Round Table</a>\, the first interdisciplinary conference on heroism\, November 9 &amp\; 10. The world’s leading thinkers on heroism are coming to Genesee County for two days of learning\, inspiration\, networking and collaboration. Topics include stopping bullying in schools and the workplace\, women heroes the psychology of heroic behavior. To find out more\, or secure your seat at the “round table\,” visit <a href="http://www.heroroundtable.com" target="_blank">www.heroroundtable.com</a>.
LOCATION:Swartz Creek High School 1 Dragon Dr. Swartz Creek MI 48473
UID:e.2606.574
SEQUENCE:3
DTSTAMP:20260421T184731Z
URL:https://members.flintandgeneseechamber.org/events/details/hero-round-table-11-09-2013-574
END:VEVENT

END:VCALENDAR
