BEGIN:VCALENDAR
VERSION:2.0
PRODID:-//ChamberMaster//Event Calendar 2.0//EN
METHOD:PUBLISH
X-PUBLISHED-TTL:P3D
REFRESH-INTERVAL:P3D
CALSCALE:GREGORIAN
BEGIN:VEVENT
DTSTART:20131109T123000Z
DTEND:20131109T233000Z
X-MICROSOFT-CDO-ALLDAYEVENT:FALSE
SUMMARY:HERO Roundtable Conference- Swartz Creek High School
DESCRIPTION:HERO Roundtable Conference\n\nYou can be a part of the change you want to see in the world. Think like a hero. Learn how to tap your inner hero at the Hero Roundtable\, the first interdisciplinary conference on heroism\, Nov. 9 & 10. The world’s leading thinkers on heroism are coming to Genesee County for two days of learning\, inspiration\, networking and collaboration. Topics include stopping bullying in schools and the workplace\, women heroes\, the psychology of heroic behavior... from national and international speakers. To find out more\, or secure your seat at the “roundtable\,” visit www.heroroundtable.com\n\nAgenda as followed:\n\n7:30 am  Check-ins begins\n\n8:00 am  Continental Breakfast\n\n8:30 am Introduction and Welcome\n\nProgram continues throughout the day with 6:30 pm dinner event at Holiday Inn Gateway
X-ALT-DESC;FMTTYPE=text/html:HERO Roundtable Conference\n\nYou can be a part of the change you want to see in the world. Think like a hero. Learn how to tap your inner hero at the Hero Roundtable\, the first interdisciplinary conference on heroism\, Nov. 9 &amp\; 10. The world’s leading thinkers on heroism are coming to Genesee County for two days of learning\, inspiration\, networking and collaboration. Topics include stopping bullying in schools and the workplace\, women heroes\, the psychology of heroic behavior... from national and international speakers. To find out more\, or secure your seat at the “roundtable\,” visit <a href="http://www.heroroundtable.com">www.heroroundtable.com</a>\n\nAgenda as followed:\n\n7:30 am  Check-ins begins\n\n8:00 am  Continental Breakfast\n\n8:30 am Introduction and Welcome\n\nProgram continues throughout the day with 6:30 pm dinner event at Holiday Inn Gateway
LOCATION:
UID:e.2606.579
SEQUENCE:3
DTSTAMP:20260421T185021Z
URL:https://members.flintandgeneseechamber.org/events/details/hero-roundtable-conference-swartz-creek-high-school-11-09-2013-579
END:VEVENT

END:VCALENDAR
