BEGIN:VCALENDAR
VERSION:2.0
PRODID:-//ChamberMaster//Event Calendar 2.0//EN
METHOD:PUBLISH
X-PUBLISHED-TTL:P3D
REFRESH-INTERVAL:P3D
CALSCALE:GREGORIAN
BEGIN:VEVENT
DTSTART:20251211T160000Z
DTEND:20251211T230000Z
X-MICROSOFT-CDO-ALLDAYEVENT:FALSE
SUMMARY:Holiday Hot Cocoa Crawl @ Frankenmuth River Place Shops
DESCRIPTION:Holiday Hot Cocoa Crawl at Frankenmuth River Place Shops!\n\n\n\n\nDecember 11 & 12\, 2025 | 11AM   6PM\n\nFor just $5\, enjoy tastings of various hot cocoa creations while strolling around River Place Shops! Guests may pre-purchase tickets in advance or buy on-site the day of the event.\n\nCheck-in will be located at the main entrance of Frankenmuth River Place Shops near the Christmas Tree. At check-in\, you will receive your event postcard (ticket)\, any pre-purchased meal tickets\, and game cards.\n\n \n\n\n\n Optional Meal & Treat Add-Ons\n\n\n	\n	Pre-purchase a meal at Cass River Bar & Grill before December 10 at 11:59 PM and receive a $10 River Place Shops Game Card per meal!\n	\n	\n	Meals will still be available for purchase on-site\, but on-site meal purchases do not include the $10 game card.\n	\n	\n	Cookie Decorating at Cass River Bar & Grill can be pre-purchased or purchased on-site.\n	\n	\n	All pre-purchased meal and cookie decorating tickets will be provided to you at check-in.\n	\n\n\n\n \n\n \n\nLet's make sweet memories at the Holiday Hot Cocoa Crawl your new favorite holiday tradition!
X-ALT-DESC;FMTTYPE=text/html:<div><strong>Holiday Hot Cocoa Crawl</strong><span style="background-color:rgb(243\, 243\, 243)\; color:rgb(32\, 33\, 36)\; font-family:noto sans\,arial\; font-size:14px">&nbsp\;at Frankenmuth River Place Shops!</span></div>\n\n<div>\n<div>\n<div>\n<p>December 11 &amp\; 12\, 2025 | 11AM &ndash\; 6PM</p>\n\n<p>For just $5\, enjoy tastings of various hot cocoa creations while strolling around River Place Shops!&nbsp\;Guests may pre-purchase tickets in advance or buy on-site the day of the event.</p>\n\n<p>Check-in will be located at the main entrance of Frankenmuth River Place Shops near the Christmas Tree. At check-in\, you will receive your event postcard (ticket)\, any pre-purchased meal tickets\, and game cards.</p>\n\n<p>&nbsp\;</p>\n</div>\n\n<div>\n<p><strong>&nbsp\;Optional Meal &amp\; Treat Add-Ons</strong></p>\n\n<ul>\n	<li>\n	<p>Pre-purchase a meal at Cass River Bar &amp\; Grill before December 10 at 11:59 PM and receive a $10 River Place Shops Game Card per meal!</p>\n	</li>\n	<li>\n	<p>Meals will still be available for purchase on-site\, but on-site meal purchases do not include the $10 game card.</p>\n	</li>\n	<li>\n	<p>Cookie Decorating at Cass River Bar &amp\; Grill can be pre-purchased or purchased on-site.</p>\n	</li>\n	<li>\n	<p>All pre-purchased meal and cookie decorating tickets will be provided to you at check-in.</p>\n	</li>\n</ul>\n</div>\n\n<div>&nbsp\;</div>\n\n<div>&nbsp\;</div>\n\n<div>Let&rsquo\;s make sweet memories at the Holiday Hot Cocoa Crawl&mdash\;your new favorite holiday tradition!</div>\n</div>\n</div>\n
LOCATION:Frankenmuth River Place Shops 925. S Main St. Frankenmuth MI\, 48734
UID:e.2606.20142
SEQUENCE:3
DTSTAMP:20260421T175644Z
URL:https://members.flintandgeneseechamber.org/events/details/holiday-hot-cocoa-crawl-frankenmuth-river-place-shops-20142
END:VEVENT

END:VCALENDAR
