BEGIN:VCALENDAR
VERSION:2.0
PRODID:-//ChamberMaster//Event Calendar 2.0//EN
METHOD:PUBLISH
X-PUBLISHED-TTL:P3D
REFRESH-INTERVAL:P3D
CALSCALE:GREGORIAN
BEGIN:VEVENT
DTSTART:20131206T210000Z
DTEND:20131209T020000Z
X-MICROSOFT-CDO-ALLDAYEVENT:FALSE
SUMMARY:''Holiday Magic'' Christmas at Crossroads Village & Huckleberry Railroad
DESCRIPTION:Come experience Crossroads Village when it's decorated with thousands of tiny sparkling lights and take a festive nighttime ride through the snowy countryside on the beloved Huckleberry Railroad! You'll find Villagers making vintage crafts and shops full of great holiday gifts. Santa\, himself\, will be there to greet all! For a detailed schedule of activities visit www.geneseecountyparks.org.
X-ALT-DESC;FMTTYPE=text/html:Come experience Crossroads Village when it's decorated with thousands of tiny sparkling lights and take a festive nighttime ride through the snowy countryside on the beloved Huckleberry Railroad! You'll find Villagers making vintage crafts and shops full of great holiday gifts. Santa\, himself\, will be there to greet all! For a detailed schedule of activities visit <a title="Crossroads Village &amp\; Huckleberry Railroad" href="http://geneseecountyparks.org/pages/Christmas" target="_blank">www.geneseecountyparks.org</a>.
LOCATION:Crossroads Village & Huckleberry Railroad 6140 Bray Road Flint Michigan
UID:e.2606.256
SEQUENCE:3
DTSTAMP:20260421T172012Z
URL:https://members.flintandgeneseechamber.org/events/details/holiday-magic-christmas-at-crossroads-village-huckleberry-railroad-12-06-2013-256
END:VEVENT

END:VCALENDAR
