BEGIN:VCALENDAR
VERSION:2.0
PRODID:-//ChamberMaster//Event Calendar 2.0//EN
METHOD:PUBLISH
X-PUBLISHED-TTL:P3D
REFRESH-INTERVAL:P3D
CALSCALE:GREGORIAN
BEGIN:VEVENT
DTSTART:20140729T230000Z
DTEND:20140730T010000Z
X-MICROSOFT-CDO-ALLDAYEVENT:FALSE
SUMMARY:Hot Rods & Rock-N-Roll! at Clio Amphitheater
DESCRIPTION:The Fabulous Oldies But Goodies\, a favorite 50's & 60's band of The National Hot Rod Association\, will transport back in time when Rock-N-Roll was new\, the malt shop was the place to be and crusin' was the thing to do. Bring your ride out for a muffler rap contest. Prizes for the Best of Show\, Pre-1960's & 70's\, best dressed 50's costume and Twist & Limbo contest. Gates open at 6 p.m. Rain date is scheduled for July 30. For details and a schedule of upcoming shows visit www.cliogovoffice.com.
X-ALT-DESC;FMTTYPE=text/html:The Fabulous Oldies But Goodies\, a favorite 50's &amp\; 60's band of The National Hot Rod Association\, will transport back in time when Rock-N-Roll was new\, the malt shop was the place to be and crusin' was the thing to do. Bring your ride out for a muffler rap contest. Prizes for the Best of Show\, Pre-1960's &amp\; 70's\, best dressed 50's costume and Twist &amp\; Limbo contest. Gates open at 6 p.m. Rain date is scheduled for July 30. For details and a schedule of upcoming shows visit <a title="Clio Amphitheater" href="http://www.clio.govoffice.com/index.asp?SEC=8C018E69-BDAB-4E5D-BDDF-D119AE895A2A&amp\;Type=B_BASIC" target="_blank">www.cliogovoffice.com</a>.
LOCATION:Clio Amphitheater 301 Rogers Lodge Drive Clio Michigan
UID:e.2606.881
SEQUENCE:3
DTSTAMP:20260421T085037Z
URL:https://members.flintandgeneseechamber.org/events/details/hot-rods-rock-n-roll-at-clio-amphitheater-07-29-2014-881
END:VEVENT

END:VCALENDAR
