BEGIN:VCALENDAR
VERSION:2.0
PRODID:-//ChamberMaster//Event Calendar 2.0//EN
METHOD:PUBLISH
X-PUBLISHED-TTL:P3D
REFRESH-INTERVAL:P3D
CALSCALE:GREGORIAN
BEGIN:VEVENT
DTSTART:20130615T163000Z
DTEND:20130616T203000Z
X-MICROSOFT-CDO-ALLDAYEVENT:FALSE
SUMMARY:''How I Wonder'' Sky Show at Longway Planetrium
DESCRIPTION:Find out the answers to a variety of questions that people ask astronomers at Longway such as "What is the difference between a star and a planet?" and "How many planets have been found?" or "What about all the UFO's?" This sky show starts at 12:30 p.m. and 3:30 p.m. and is recommended for ages 6 and older. For details and a schedule of upcoming shows visit www.sloanlongway.org.
X-ALT-DESC;FMTTYPE=text/html:Find out the answers to a variety of questions that people ask astronomers at Longway such as "What is the difference between a star and a planet?" and "How many planets have been found?" or "What about all the UFO's?" This sky show starts at 12:30 p.m. and 3:30 p.m. and is recommended for ages 6 and older. For details and a schedule of upcoming shows visit <a title="Longway Planetarium" href="http://sloanlongway.org/" target="_blank">www.sloanlongway.org</a>.
LOCATION:Longway Planetarium 1310 E. Kearsley Street Flint Michigan
UID:e.2606.178
SEQUENCE:3
DTSTAMP:20260422T023339Z
URL:https://members.flintandgeneseechamber.org/events/details/how-i-wonder-sky-show-at-longway-planetrium-06-15-2013-178
END:VEVENT

END:VCALENDAR
