BEGIN:VCALENDAR
VERSION:2.0
PRODID:-//ChamberMaster//Event Calendar 2.0//EN
METHOD:PUBLISH
X-PUBLISHED-TTL:P3D
REFRESH-INTERVAL:P3D
CALSCALE:GREGORIAN
BEGIN:VEVENT
DTSTART:20260317T130000Z
DTEND:20260317T140000Z
X-MICROSOFT-CDO-ALLDAYEVENT:FALSE
SUMMARY:How To Have Better Conversations at Work
DESCRIPTION:Would you like to create an environment where feedback is valued\, expected\, and effective? In this session\, you'll learn how to deliver feedback that motivates performance and inspires trust\, while also developing the confidence to receive feedback constructively. Through discussion and practical tools\, you'll discover how consistent\, balanced feedback can improve communication\, morale\, and team results.\n\n\n\nFacilitated by: Pam Murdock\, Murdock Leadership Development
X-ALT-DESC;FMTTYPE=text/html:<span style="font-size:14px\;"><span style="font-family:arial\;"><span style="color:black\;">Would you like to create an environment where feedback is valued\, expected\, and effective? In this session\, you&rsquo\;ll learn how to deliver feedback that motivates performance and inspires trust\, while also developing the confidence to receive feedback constructively. Through discussion and practical tools\, you&rsquo\;ll discover how consistent\, balanced feedback can improve communication\, morale\, and team results.</span></span></span><br />\n<br />\n<span style="color:black\;"><span style="font-family:arial\,sans-serif\;"><span style="font-size:14px\;"><span style="font-family:arial\;">Facilitated by: Pam Murdock\, Murdock Leadership Development</span></span> </span></span>
LOCATION:Sacred Heart Veterans Resource Center 729 E. Stewart Ave. Flint\, MI 48505 Corner of Stewart & Saginaw St.
UID:e.2606.20155
SEQUENCE:3
DTSTAMP:20260421T144414Z
URL:https://members.flintandgeneseechamber.org/events/details/how-to-have-better-conversations-at-work-20155
END:VEVENT

END:VCALENDAR
