BEGIN:VCALENDAR
VERSION:2.0
PRODID:-//ChamberMaster//Event Calendar 2.0//EN
METHOD:PUBLISH
X-PUBLISHED-TTL:P3D
REFRESH-INTERVAL:P3D
CALSCALE:GREGORIAN
BEGIN:VEVENT
DTSTART:20131126T133000Z
DTEND:20131126T150000Z
X-MICROSOFT-CDO-ALLDAYEVENT:FALSE
SUMMARY:How to Implement: A Disability Works Seminar
DESCRIPTION:Learn how to help your business improve your workforce by hiring qualified employees with disabilities.  At this event\, you will receive practical "How To" tips from employers like you who have successfully implemented inclusive hiring policies.\n\nSpace is limited\, so reserve your seat by contacting Emily Riddles at (810) 742-1800\, ext. 324 or email emilyr@disnetwork.org.\n\nLight refreshments will be served.\n\nThis event is presented by Disability Works\, a committee of the Flint & Genesee Chamber of Commerce\, and the Disability Network.
X-ALT-DESC;FMTTYPE=text/html:Learn how to help your business improve your workforce by hiring qualified employees with disabilities.  At this event\, you will receive practical "How To" tips from employers like you who have successfully implemented inclusive hiring policies.\n\nSpace is limited\, so reserve your seat by contacting Emily Riddles at (810) 742-1800\, ext. 324 or email <a href="mailto:emilyr@disnetwork.org">emilyr@disnetwork.org</a>.\n\nLight refreshments will be served.\n\nThis event is presented by <a href="http://www.flintandgenesee.org/connect/committees/disability-works-committee/">Disability Works</a>\, a committee of the Flint &amp\; Genesee Chamber of Commerce\, and the <a href="http://www.disnetwork.org/" target="_blank">Disability Network</a>.
LOCATION:Newton International 2110 W Hill Rd Flint MI
UID:e.2606.425
SEQUENCE:3
DTSTAMP:20260421T184807Z
URL:https://members.flintandgeneseechamber.org/events/details/how-to-implement-a-disability-works-seminar-11-26-2013-425
END:VEVENT

END:VCALENDAR
