BEGIN:VCALENDAR
VERSION:2.0
PRODID:-//ChamberMaster//Event Calendar 2.0//EN
METHOD:PUBLISH
X-PUBLISHED-TTL:P3D
REFRESH-INTERVAL:P3D
CALSCALE:GREGORIAN
BEGIN:VEVENT
DTSTART:20140624T123000Z
DTEND:20140624T173000Z
X-MICROSOFT-CDO-ALLDAYEVENT:FALSE
SUMMARY:I-69 International Trade Corridor Meet the Buyer Event
DESCRIPTION:This business-to-business networking event will highlight how regionalism is paying off for the I-69 International Trade Corridor as businesses as companies come together to grow their bottom line and enhance the economic well-being of the Corridor and beyond.\n\nCost: $35 Admission with lunch included\n\nRSVP is required\, please register here: http://tinyurl.com/q3o7zvl\n\nLocation:  Durand Middle School\, 9550 E. Lansing Rd\, Durand\, MI  48429
X-ALT-DESC;FMTTYPE=text/html:This business-to-business networking event will highlight how regionalism is paying off for the I-69 International Trade Corridor as businesses as companies come together to grow their bottom line and enhance the economic well-being of the Corridor and beyond.\n\nCost: $35 Admission with lunch included\n\nRSVP is required\, please register here: <a href="http://tinyurl.com/q3o7zvl">http://tinyurl.com/q3o7zvl</a>\n\nLocation:  Durand Middle School\, 9550 E. Lansing Rd\, Durand\, MI  48429\n\n&nbsp\;
LOCATION:Durand Middle School 9550 E. Lansing Rd. Durand MI 48429
UID:e.2606.1022
SEQUENCE:3
DTSTAMP:20260421T102953Z
URL:https://members.flintandgeneseechamber.org/events/details/i-69-international-trade-corridor-meet-the-buyer-event-06-24-2014-1022
END:VEVENT

END:VCALENDAR
