BEGIN:VCALENDAR
VERSION:2.0
PRODID:-//ChamberMaster//Event Calendar 2.0//EN
METHOD:PUBLISH
X-PUBLISHED-TTL:P3D
REFRESH-INTERVAL:P3D
CALSCALE:GREGORIAN
BEGIN:VEVENT
DTSTART:20240514T213000Z
DTEND:20240514T223000Z
X-MICROSOFT-CDO-ALLDAYEVENT:FALSE
SUMMARY:Igniting Innovation: Understanding the Entrepreneurial Ecosystem
DESCRIPTION:Join us for 'Igniting Innovation'\, a collaborative workshop designed to navigate Flint's entrepreneurial ecosystem. Led by SIPI\, Inc.\, Flint's Ecosystem Coordinator\, and Jordan Brown\, this workshop aims to engage entrepreneurs\, community leaders\, and ecosystem stakeholders in a collective effort to foster innovation and sustainability. In this session\, participants will gain a comprehensive understanding of Flint's entrepreneurial landscape\, including available resources\, support networks\, and just overall tips on how to navigate this hub and spoke framework.
X-ALT-DESC;FMTTYPE=text/html:<span style="color:rgb(111\, 114\, 135)\; font-family:neue plak\,-apple-system\,blinkmacsystemfont\,roboto\,helvetica neue\,helvetica\,tahoma\,arial\,sans-serif\; font-size:16px">Join us for &lsquo\;Igniting Innovation&rsquo\;\, a collaborative workshop designed to navigate Flint&#39\;s entrepreneurial ecosystem. Led by SIPI\, Inc.\, Flint&#39\;s Ecosystem Coordinator\, and Jordan Brown\, this workshop aims to engage entrepreneurs\, community leaders\, and ecosystem stakeholders in a collective effort to foster innovation and sustainability. In this session\, participants will gain a comprehensive understanding of Flint&#39\;s entrepreneurial landscape\, including available resources\, support networks\, and just overall tips on how to navigate this hub and spoke framework.</span>
LOCATION:601 S. Saginaw Street Flint\, MI 48502
UID:e.2606.18229
SEQUENCE:3
DTSTAMP:20260421T151329Z
URL:https://members.flintandgeneseechamber.org/events/details/igniting-innovation-understanding-the-entrepreneurial-ecosystem-18229
END:VEVENT

END:VCALENDAR
