BEGIN:VCALENDAR
VERSION:2.0
PRODID:-//ChamberMaster//Event Calendar 2.0//EN
METHOD:PUBLISH
X-PUBLISHED-TTL:P3D
REFRESH-INTERVAL:P3D
CALSCALE:GREGORIAN
BEGIN:VEVENT
DTSTART;VALUE=DATE:20130113
DTEND;VALUE=DATE:20130114
TRANSP:TRANSPARENT
X-MICROSOFT-CDO-ALLDAYEVENT:TRUE
SUMMARY:“In the Next Room” at The Whiting
DESCRIPTION:www.thewhiting.com
X-ALT-DESC;FMTTYPE=text/html:<a href="http://www.thewhiting.com/" target="_blank">www.thewhiting.com</a>
LOCATION:The Whiting 1241 E. Kearsley St. Flint Michigan 48503
UID:e.2606.77
SEQUENCE:3
DTSTAMP:20260422T105600Z
URL:https://members.flintandgeneseechamber.org/events/details/in-the-next-room-at-the-whiting-01-13-2013-77
END:VEVENT

END:VCALENDAR
