BEGIN:VCALENDAR
VERSION:2.0
PRODID:-//ChamberMaster//Event Calendar 2.0//EN
METHOD:PUBLISH
X-PUBLISHED-TTL:P3D
REFRESH-INTERVAL:P3D
CALSCALE:GREGORIAN
BEGIN:VEVENT
DTSTART;VALUE=DATE:20130423
DTEND;VALUE=DATE:20130424
TRANSP:TRANSPARENT
X-MICROSOFT-CDO-ALLDAYEVENT:TRUE
SUMMARY:“Incidents of a Slave Girl” at The Whiting
DESCRIPTION:www.thewhiting.com
X-ALT-DESC;FMTTYPE=text/html:<a href="http://www.thewhiting.com/" target="_blank">www.thewhiting.com</a>
LOCATION:The Whiting 1241 E. Kearsley St. Flint Michigan 48503
UID:e.2606.99
SEQUENCE:3
DTSTAMP:20260422T055840Z
URL:https://members.flintandgeneseechamber.org/events/details/incidents-of-a-slave-girl-at-the-whiting-04-23-2013-99
END:VEVENT

END:VCALENDAR
