BEGIN:VCALENDAR
VERSION:2.0
PRODID:-//ChamberMaster//Event Calendar 2.0//EN
METHOD:PUBLISH
X-PUBLISHED-TTL:P3D
REFRESH-INTERVAL:P3D
CALSCALE:GREGORIAN
BEGIN:VEVENT
DTSTART:20170317T160000Z
DTEND:20170317T170000Z
X-MICROSOFT-CDO-ALLDAYEVENT:FALSE
SUMMARY:INSPIRE Leadership Speaker Series - Amy Hovey
DESCRIPTION:INSPIRE Leadership Speaker Series welcomes Amy Hovey\, Special Projects Coordinator\, with C.S. Mott Foundation\n\nAmy Hovey has more than two decades of experience in finance\, government relations\, commercial real estate\, construction\, housing and neighborhood revitalization. After beginning her career as a banker\, she worked as a program director for the Local Initiatives Support Corporation\, founded Protogenia Group in Lansing\, served as senior vice president and CEO of the Center for Community Progress in Washington\, D.C.  and served as district chief of staff for Congressman Dan Kildee. Today\, she leads specials projects at the C.S. Mott Foundation and serves on the board of Flint's N.E.W. Life Center.
X-ALT-DESC;FMTTYPE=text/html:<strong>INSPIRE Leadership Speaker Series welcomes&nbsp\;Amy Hovey\, Special Projects Coordinator\, with&nbsp\;</strong><strong>C.S. Mott Foundation</strong><br />\nAmy Hovey has more than two decades of experience in finance\, government relations\, commercial real estate\, construction\, housing and neighborhood revitalization. After beginning her career as a banker\, she worked as a program director for the Local Initiatives Support Corporation\, founded Protogenia Group in Lansing\, served as senior vice president and CEO of the Center for Community Progress in Washington\, D.C.&nbsp\; and served as district chief of staff for Congressman Dan Kildee. Today\, she leads specials projects at the C.S. Mott Foundation and serves on the board of Flint&rsquo\;s N.E.W. Life Center.&nbsp\;
LOCATION:Girl Scouts of Southeastern Michigan Council\, Plaza Building\, 2nd Floor\,111 E. Court Street in Flint.
UID:e.2606.3813
SEQUENCE:3
DTSTAMP:20260421T085002Z
URL:https://members.flintandgeneseechamber.org/events/details/inspire-leadership-speaker-series-amy-hovey-3813
END:VEVENT

END:VCALENDAR
