BEGIN:VCALENDAR
VERSION:2.0
PRODID:-//ChamberMaster//Event Calendar 2.0//EN
METHOD:PUBLISH
X-PUBLISHED-TTL:P3D
REFRESH-INTERVAL:P3D
CALSCALE:GREGORIAN
BEGIN:VEVENT
DTSTART:20130629T170000Z
DTEND:20130629T190000Z
X-MICROSOFT-CDO-ALLDAYEVENT:FALSE
SUMMARY:International Mud Day
DESCRIPTION:Pigs love mud and so do we! Wear something old\, bring a towel and come prepared to slip\, slide and wallow in Bluebell's mud pit! Recommended for families of all ages. Free admission. For details and a schedule of upcoming events visit www.geneseecountyparks.org.
X-ALT-DESC;FMTTYPE=text/html:Pigs love mud and so do we! Wear something old\, bring a towel and come prepared to slip\, slide and wallow in Bluebell's mud pit! Recommended for families of all ages. Free admission. For details and a schedule of upcoming events visit <a title="Genesee County Parks " href="http://geneseecountyparks.org" target="_blank">www.geneseecountyparks.org</a>.\n\n&nbsp\;
LOCATION:Bluebell Beach 5500 Bray Road Flint Michigan
UID:e.2606.230
SEQUENCE:3
DTSTAMP:20260422T023041Z
URL:https://members.flintandgeneseechamber.org/events/details/international-mud-day-06-29-2013-230
END:VEVENT

END:VCALENDAR
