BEGIN:VCALENDAR
VERSION:2.0
PRODID:-//ChamberMaster//Event Calendar 2.0//EN
METHOD:PUBLISH
X-PUBLISHED-TTL:P3D
REFRESH-INTERVAL:P3D
CALSCALE:GREGORIAN
BEGIN:VEVENT
DTSTART:20131011T130000Z
DTEND:20131011T160000Z
X-MICROSOFT-CDO-ALLDAYEVENT:FALSE
SUMMARY:Interview Preparation: Career Edge Workshop Series | CRM-EETCADULT
DESCRIPTION:You have the skills and credentials but the idea of interviewing for that job can be overwhelming. What types of questions will they ask? Will I remember the “right” things to say? Who should sit down first? Is it okay to ask for a drink of water? These and many other questions will be answered as participants are introduced to various types of Interviews\, how to prepare\, Mock Interview role playing\, presentation skills and networking.\n\nCost for the program is $10 for students (high school and college) per workshop\, and $15 for all others per workshop. Scholarships are available\, contact rhunyady@flintandgenesee.org for information.\nAbout Career Edge\nCareer Edge is a series of workshops designed to help adults prepare for the job market. Whether new to the job market\, returning to the job market or simply having trouble navigating the job market\, these workshops are designed to give participants the skills needed to get and keep a job. Workshops are offered as half-day sessions on Fridays from September through November. Participants may take any or all of the workshops\, in any order\, at their convenience.\n\nClick here for additional workshop topics and dates.
X-ALT-DESC;FMTTYPE=text/html:You have the skills and credentials but the idea of interviewing for that job can be overwhelming. What types of questions will they ask? Will I remember the “right” things to say? Who should sit down first? Is it okay to ask for a drink of water? These and many other questions will be answered as participants are introduced to various types of Interviews\, how to prepare\, Mock Interview role playing\, presentation skills and networking.\n\nCost for the program is $10 for students (high school and college) per workshop\, and $15 for all others per workshop. Scholarships are available\, contact <a href="mailto:rhunyady@flintandgenesee.org">rhunyady@flintandgenesee.org</a> for information.\n<h3>About Career Edge</h3>\nCareer Edge is a series of workshops designed to help adults prepare for the job market. Whether new to the job market\, returning to the job market or simply having trouble navigating the job market\, these workshops are designed to give participants the skills needed to get and keep a job. Workshops are offered as half-day sessions on Fridays from September through November. Participants may take any or all of the workshops\, in any order\, at their convenience.\n\n<a href="http://www.flintandgenesee.org/careeredge">Click here for additional workshop topics and dates.</a>
LOCATION:Flint & Genesee Chamber of Commerce 519 S. Saginaw St. Flint MI 48502
UID:e.2606.499
SEQUENCE:3
DTSTAMP:20260421T203002Z
URL:https://members.flintandgeneseechamber.org/events/details/interview-preparation-career-edge-workshop-series-crm-eetcadult-10-11-2013-499
END:VEVENT

END:VCALENDAR
