BEGIN:VCALENDAR
VERSION:2.0
PRODID:-//ChamberMaster//Event Calendar 2.0//EN
METHOD:PUBLISH
X-PUBLISHED-TTL:P3D
REFRESH-INTERVAL:P3D
CALSCALE:GREGORIAN
BEGIN:VEVENT
DTSTART:20170223T170000Z
DTEND:20170223T180000Z
X-MICROSOFT-CDO-ALLDAYEVENT:FALSE
SUMMARY:Intro to Room Full of Referrals
DESCRIPTION:Become a master networker by learning how to quickly recognize behavioral styles. Participants will be able to adapt their own communication styles to quickly establish rapport and trust with nearly anyone.\n\n\n\nFacilitator: Tonya Acha\, Asentiv\, formerly Referral Institute.\n\n\n\nReferral marketing expert Tonya Acha coaches business professionals on how to develop and maintain a strong network of professional contacts who can spread the message about their products and services.\n\nwww.asentiv.com
X-ALT-DESC;FMTTYPE=text/html:<span style="line-height: 107%\; font-family: &quot\;Calibri&quot\;\,sans-serif\; font-size: 11pt\; mso-bidi-font-family: &quot\;Times New Roman&quot\;\; mso-fareast-font-family: Calibri\; mso-fareast-theme-font: minor-latin\; mso-bidi-theme-font: minor-bidi\; mso-ansi-language: EN-US\; mso-fareast-language: EN-US\; mso-bidi-language: AR-SA\;"><font color="#000000">Become a master networker by learning how to quickly recognize behavioral styles. Participants will be able to adapt their own communication styles to quickly establish rapport and trust with nearly anyone.<br />\n<br />\nFacilitator: Tonya Acha\, </font></span>Asentiv\, formerly Referral Institute.<br />\n<br />\nReferral marketing expert Tonya Acha coaches business professionals on how to develop and maintain a strong network of professional contacts who can spread the message about their products and services.<br />\n<a href="http://www.asentiv.com">www.asentiv.com</a><br />\n&nbsp\;
LOCATION:Girl Scouts of Southeastern Michigan Council\, Plaza Building\, 2nd Floor 111 E. Court St.\, Flint
UID:e.2606.3349
SEQUENCE:3
DTSTAMP:20260421T085015Z
URL:https://members.flintandgeneseechamber.org/events/details/intro-to-room-full-of-referrals-3349
END:VEVENT

END:VCALENDAR
