BEGIN:VCALENDAR
VERSION:2.0
PRODID:-//ChamberMaster//Event Calendar 2.0//EN
METHOD:PUBLISH
X-PUBLISHED-TTL:P3D
REFRESH-INTERVAL:P3D
CALSCALE:GREGORIAN
BEGIN:VEVENT
DTSTART:20251002T123000Z
DTEND:20251002T143000Z
X-MICROSOFT-CDO-ALLDAYEVENT:FALSE
SUMMARY:IREM Breakfast Seminar
DESCRIPTION:Join us at the historic Durant-Dort Factory One building in downtown Flint for our breakfast seminar. Hear from  Industry leader attorney John Mione on "Source of Income Legislation\," and national technology expert Burton Kelso on "Don't Turn a Blind Eye to Artificial Intelligence (AI) in Property Management."
X-ALT-DESC;FMTTYPE=text/html:Join us at the historic Durant-Dort Factory One building in downtown Flint for our breakfast&nbsp\;seminar. Hear from&nbsp\; Industry leader attorney John Mione on &quot\;Source of Income Legislation\,&quot\; and&nbsp\;national technology expert Burton Kelso on &quot\;Don&#39\;t Turn a Blind Eye to Artificial Intelligence (AI) in&nbsp\;Property Management.&quot\;
LOCATION:Durant-Dort Factory One Building 303 W Water St Flint\, MI 48503
UID:e.2606.20087
SEQUENCE:3
DTSTAMP:20260421T205638Z
URL:https://members.flintandgeneseechamber.org/events/details/irem-breakfast-seminar-20087
END:VEVENT

END:VCALENDAR
