BEGIN:VCALENDAR
VERSION:2.0
PRODID:-//ChamberMaster//Event Calendar 2.0//EN
METHOD:PUBLISH
X-PUBLISHED-TTL:P3D
REFRESH-INTERVAL:P3D
CALSCALE:GREGORIAN
BEGIN:VEVENT
DTSTART:20130504T150000Z
DTEND:20130504T170000Z
X-MICROSOFT-CDO-ALLDAYEVENT:FALSE
SUMMARY:Jazzercise Court St. Pretty N Pink Fundraiser
DESCRIPTION:Chinese Auction\, Jazzercise Demo\, Saturday 5/4\, tickets $10\, only 100 tickets available. Proceeds benefit American Cancer Society. Jazzercise Demo 11:15 a.m.\, Refreshments 11:50 a.m.\, Chinese Auction 12:15 p.m.\n\nOver 20 items\, ipod nano\, coach purse\, ryka shoes gifts cards\, coca cola collectibles\, to name a few. Auction tickets 5 for $10 or 12 for $20.\n\nCheck us out on Facebook @ jazzercise Court St. (810) 743-3525
X-ALT-DESC;FMTTYPE=text/html:Chinese Auction\, Jazzercise Demo\, Saturday 5/4\, tickets $10\, only 100 tickets available. Proceeds benefit American Cancer Society. Jazzercise Demo 11:15 a.m.\, Refreshments 11:50 a.m.\, Chinese Auction 12:15 p.m.\n\nOver 20 items\, ipod nano\, coach purse\, ryka shoes gifts cards\, coca cola collectibles\, to name a few. Auction tickets 5 for $10 or 12 for $20.\n\nCheck us out on Facebook @<a href="https://www.facebook.com/pages/Jazzercise-Court-St-Flint-MI/149002841801690" target="_blank"> jazzercise Court St</a>. (810) 743-3525
LOCATION:Jazzercise Court St. 3525 E. Court St. Flint MI
UID:e.2606.143
SEQUENCE:3
DTSTAMP:20260422T042017Z
URL:https://members.flintandgeneseechamber.org/events/details/jazzercise-court-st-pretty-n-pink-fundraiser-05-04-2013-143
END:VEVENT

END:VCALENDAR
