BEGIN:VCALENDAR
VERSION:2.0
PRODID:-//ChamberMaster//Event Calendar 2.0//EN
METHOD:PUBLISH
X-PUBLISHED-TTL:P3D
REFRESH-INTERVAL:P3D
CALSCALE:GREGORIAN
BEGIN:VEVENT
DTSTART:20131025T130000Z
DTEND:20131025T160000Z
X-MICROSOFT-CDO-ALLDAYEVENT:FALSE
SUMMARY:Job Search Preparation: Career Edge Workshop Series | CRM-EETCADULT
DESCRIPTION:In addition to “looking” for a new job there are important steps that you must take to prepare for your new career opportunity.  This course includes Application Completion\, Resume Development\, Cover Letter\, References and Portfolio Development.  Participants will leave with the necessary tools to successfully fill out a job application\, develop a winning resume\, appropriately word a cover letter targeted to a job you are seeking and prepare a portfolio to showcase your skills\, experience and accomplishments.\n\nPlease bring a flash drive or CD to save any work that you complete.\n\nCost for the program is $10 for students (high school and college) per workshop\, and $15 for all others per workshop. Scholarships are available\, contact rhunyady@flintandgenesee.org for information.\nAbout Career Edge\nCareer Edge is a series of workshops designed to help adults prepare for the job market. Whether new to the job market\, returning to the job market or simply having trouble navigating the job market\, these workshops are designed to give participants the skills needed to get and keep a job. Workshops are offered as half-day sessions on Fridays from September through November. Participants may take any or all of the workshops\, in any order\, at their convenience.\n\nClick here for additional workshop topics and dates.
X-ALT-DESC;FMTTYPE=text/html:In addition to “looking” for a new job there are important steps that you must take to prepare for your new career opportunity.  This course includes Application Completion\, Resume Development\, Cover Letter\, References and Portfolio Development.  Participants will leave with the necessary tools to successfully fill out a job application\, develop a winning resume\, appropriately word a cover letter targeted to a job you are seeking and prepare a portfolio to showcase your skills\, experience and accomplishments.\n\nPlease bring a flash drive or CD to save any work that you complete.\n\nCost for the program is $10 for students (high school and college) per workshop\, and $15 for all others per workshop. Scholarships are available\, contact <a href="mailto:rhunyady@flintandgenesee.org">rhunyady@flintandgenesee.org</a> for information.\n<h3>About Career Edge</h3>\nCareer Edge is a series of workshops designed to help adults prepare for the job market. Whether new to the job market\, returning to the job market or simply having trouble navigating the job market\, these workshops are designed to give participants the skills needed to get and keep a job. Workshops are offered as half-day sessions on Fridays from September through November. Participants may take any or all of the workshops\, in any order\, at their convenience.\n\n<a href="http://www.flintandgenesee.org/careeredge">Click here for additional workshop topics and dates.</a>
LOCATION:YouthQuest Main Office 4100 Pier North Blvd.\, Suite A Flint MI 48507
UID:e.2606.495
SEQUENCE:3
DTSTAMP:20260421T203240Z
URL:https://members.flintandgeneseechamber.org/events/details/job-search-preparation-career-edge-workshop-series-crm-eetcadult-10-25-2013-495
END:VEVENT

END:VCALENDAR
